BEGIN:VCALENDAR
VERSION:2.0
PRODID:-//Benters Schlemmerdeel - ECPv6.15.20//NONSGML v1.0//EN
CALSCALE:GREGORIAN
METHOD:PUBLISH
X-WR-CALNAME:Benters Schlemmerdeel
X-ORIGINAL-URL:https://www.benters-schlemmerdeel.de
X-WR-CALDESC:Veranstaltungen für Benters Schlemmerdeel
REFRESH-INTERVAL;VALUE=DURATION:PT1H
X-Robots-Tag:noindex
X-PUBLISHED-TTL:PT1H
BEGIN:VTIMEZONE
TZID:Europe/Berlin
BEGIN:DAYLIGHT
TZOFFSETFROM:+0100
TZOFFSETTO:+0200
TZNAME:CEST
DTSTART:20230326T010000
END:DAYLIGHT
BEGIN:STANDARD
TZOFFSETFROM:+0200
TZOFFSETTO:+0100
TZNAME:CET
DTSTART:20231029T010000
END:STANDARD
BEGIN:DAYLIGHT
TZOFFSETFROM:+0100
TZOFFSETTO:+0200
TZNAME:CEST
DTSTART:20240331T010000
END:DAYLIGHT
BEGIN:STANDARD
TZOFFSETFROM:+0200
TZOFFSETTO:+0100
TZNAME:CET
DTSTART:20241027T010000
END:STANDARD
BEGIN:DAYLIGHT
TZOFFSETFROM:+0100
TZOFFSETTO:+0200
TZNAME:CEST
DTSTART:20250330T010000
END:DAYLIGHT
BEGIN:STANDARD
TZOFFSETFROM:+0200
TZOFFSETTO:+0100
TZNAME:CET
DTSTART:20251026T010000
END:STANDARD
END:VTIMEZONE
BEGIN:VEVENT
DTSTART;TZID=Europe/Berlin:20241201T120000
DTEND;TZID=Europe/Berlin:20241201T160000
DTSTAMP:20260424T174712
CREATED:20240308T133830Z
LAST-MODIFIED:20240308T133830Z
UID:10006213-1733054400-1733068800@www.benters-schlemmerdeel.de
SUMMARY:Advents-Buffet
DESCRIPTION:Waldpilzcremesuppe\nAdventssalat mit Birne/Camembert/Granatapfel\nGänsebrust\nEnte (ohne Knochen)\nHirschbraten\nVeganes Kürbisgulasch\nApfelrotkohl/Rosenkohl\nKartoffelklöße/Kroketten\nDessert-Variation\n\nPreis pro Person 36\,90€
URL:https://www.benters-schlemmerdeel.de/schlemmerevent/advents-buffet-2024/2024-12-01/
LOCATION:Benters Schlemmerdeel\, Hildesheimer Str. 92\, Vechelde\, Niedersachsen\, 38159\, Deutschland
CATEGORIES:Schlemmerevents
ORGANIZER;CN="Benters Schlemmerdeel":MAILTO:info@benters-schlemmerdeel.de
GEO:52.2617195;10.3766206
X-APPLE-STRUCTURED-LOCATION;VALUE=URI;X-ADDRESS=Benters Schlemmerdeel Hildesheimer Str. 92 Vechelde Niedersachsen 38159 Deutschland;X-APPLE-RADIUS=500;X-TITLE=Hildesheimer Str. 92:geo:10.3766206,52.2617195
END:VEVENT
BEGIN:VEVENT
DTSTART;TZID=Europe/Berlin:20241204T170000
DTEND;TZID=Europe/Berlin:20241204T170000
DTSTAMP:20260424T174712
CREATED:20240308T133608Z
LAST-MODIFIED:20240308T133608Z
UID:10006210-1733331600-1733331600@www.benters-schlemmerdeel.de
SUMMARY:Benters Weihnachts-Buffet
DESCRIPTION:Vegane Maronencremesuppe\nRote Bete Carpaccio/Birne/Ziegenkäse/Feigensenf\nGänsebrust\nHirschbraten\nSchweineschnitzel\nVeganes Kürbisgulasch\nBunte Gemüseauswahl/Apfelrotkohl\nKartoffelklöße/Spätzle/Salzkartoffeln\nDessert-Variation\n\nPreis pro Person 34\,90€
URL:https://www.benters-schlemmerdeel.de/schlemmerevent/benters-weihnachts-buffet-2024/2024-12-04/
LOCATION:Benters Schlemmerdeel\, Hildesheimer Str. 92\, Vechelde\, Niedersachsen\, 38159\, Deutschland
CATEGORIES:Schlemmerevents
ORGANIZER;CN="Benters Schlemmerdeel":MAILTO:info@benters-schlemmerdeel.de
GEO:52.2617195;10.3766206
X-APPLE-STRUCTURED-LOCATION;VALUE=URI;X-ADDRESS=Benters Schlemmerdeel Hildesheimer Str. 92 Vechelde Niedersachsen 38159 Deutschland;X-APPLE-RADIUS=500;X-TITLE=Hildesheimer Str. 92:geo:10.3766206,52.2617195
END:VEVENT
BEGIN:VEVENT
DTSTART;TZID=Europe/Berlin:20241206T170000
DTEND;TZID=Europe/Berlin:20241206T170000
DTSTAMP:20260424T174712
CREATED:20240308T132115Z
LAST-MODIFIED:20240308T132115Z
UID:10006198-1733504400-1733504400@www.benters-schlemmerdeel.de
SUMMARY:Surf & Turf
DESCRIPTION:Steaks & Riesengarnelen (Buffet) \n\nTomatencremesuppe\nCole slaw/Gurkensalat\nBlack Tiger Riesengarnelen\nRinderhüfte/Schweinenackensteaks/Hähnchenbrust\nAioli/BBQ/Sour Cream\nKräuterkartoffeln/Steakbrot\nDessert-Variation\n\nPreis pro Person 36\,90€
URL:https://www.benters-schlemmerdeel.de/schlemmerevent/surf-turf-2024-2/2024-12-06/
LOCATION:Benters Schlemmerdeel\, Hildesheimer Str. 92\, Vechelde\, Niedersachsen\, 38159\, Deutschland
CATEGORIES:Schlemmerevents
ORGANIZER;CN="Benters Schlemmerdeel":MAILTO:info@benters-schlemmerdeel.de
GEO:52.2617195;10.3766206
X-APPLE-STRUCTURED-LOCATION;VALUE=URI;X-ADDRESS=Benters Schlemmerdeel Hildesheimer Str. 92 Vechelde Niedersachsen 38159 Deutschland;X-APPLE-RADIUS=500;X-TITLE=Hildesheimer Str. 92:geo:10.3766206,52.2617195
END:VEVENT
BEGIN:VEVENT
DTSTART;TZID=Europe/Berlin:20241208T120000
DTEND;TZID=Europe/Berlin:20241208T160000
DTSTAMP:20260424T174712
CREATED:20240308T133830Z
LAST-MODIFIED:20240308T133830Z
UID:10006214-1733659200-1733673600@www.benters-schlemmerdeel.de
SUMMARY:Advents-Buffet
DESCRIPTION:Waldpilzcremesuppe\nAdventssalat mit Birne/Camembert/Granatapfel\nGänsebrust\nEnte (ohne Knochen)\nHirschbraten\nVeganes Kürbisgulasch\nApfelrotkohl/Rosenkohl\nKartoffelklöße/Kroketten\nDessert-Variation\n\nPreis pro Person 36\,90€
URL:https://www.benters-schlemmerdeel.de/schlemmerevent/advents-buffet-2024/2024-12-08/
LOCATION:Benters Schlemmerdeel\, Hildesheimer Str. 92\, Vechelde\, Niedersachsen\, 38159\, Deutschland
CATEGORIES:Schlemmerevents
ORGANIZER;CN="Benters Schlemmerdeel":MAILTO:info@benters-schlemmerdeel.de
GEO:52.2617195;10.3766206
X-APPLE-STRUCTURED-LOCATION;VALUE=URI;X-ADDRESS=Benters Schlemmerdeel Hildesheimer Str. 92 Vechelde Niedersachsen 38159 Deutschland;X-APPLE-RADIUS=500;X-TITLE=Hildesheimer Str. 92:geo:10.3766206,52.2617195
END:VEVENT
BEGIN:VEVENT
DTSTART;TZID=Europe/Berlin:20241212T170000
DTEND;TZID=Europe/Berlin:20241212T170000
DTSTAMP:20260424T174712
CREATED:20240308T133608Z
LAST-MODIFIED:20240308T133608Z
UID:10006211-1734022800-1734022800@www.benters-schlemmerdeel.de
SUMMARY:Benters Weihnachts-Buffet
DESCRIPTION:Vegane Maronencremesuppe\nRote Bete Carpaccio/Birne/Ziegenkäse/Feigensenf\nGänsebrust\nHirschbraten\nSchweineschnitzel\nVeganes Kürbisgulasch\nBunte Gemüseauswahl/Apfelrotkohl\nKartoffelklöße/Spätzle/Salzkartoffeln\nDessert-Variation\n\nPreis pro Person 34\,90€
URL:https://www.benters-schlemmerdeel.de/schlemmerevent/benters-weihnachts-buffet-2024/2024-12-12/
LOCATION:Benters Schlemmerdeel\, Hildesheimer Str. 92\, Vechelde\, Niedersachsen\, 38159\, Deutschland
CATEGORIES:Schlemmerevents
ORGANIZER;CN="Benters Schlemmerdeel":MAILTO:info@benters-schlemmerdeel.de
GEO:52.2617195;10.3766206
X-APPLE-STRUCTURED-LOCATION;VALUE=URI;X-ADDRESS=Benters Schlemmerdeel Hildesheimer Str. 92 Vechelde Niedersachsen 38159 Deutschland;X-APPLE-RADIUS=500;X-TITLE=Hildesheimer Str. 92:geo:10.3766206,52.2617195
END:VEVENT
BEGIN:VEVENT
DTSTART;TZID=Europe/Berlin:20241213T170000
DTEND;TZID=Europe/Berlin:20241213T170000
DTSTAMP:20260424T174712
CREATED:20240308T133608Z
LAST-MODIFIED:20240308T133608Z
UID:10006212-1734109200-1734109200@www.benters-schlemmerdeel.de
SUMMARY:Benters Weihnachts-Buffet
DESCRIPTION:Vegane Maronencremesuppe\nRote Bete Carpaccio/Birne/Ziegenkäse/Feigensenf\nGänsebrust\nHirschbraten\nSchweineschnitzel\nVeganes Kürbisgulasch\nBunte Gemüseauswahl/Apfelrotkohl\nKartoffelklöße/Spätzle/Salzkartoffeln\nDessert-Variation\n\nPreis pro Person 34\,90€
URL:https://www.benters-schlemmerdeel.de/schlemmerevent/benters-weihnachts-buffet-2024/2024-12-13/
LOCATION:Benters Schlemmerdeel\, Hildesheimer Str. 92\, Vechelde\, Niedersachsen\, 38159\, Deutschland
CATEGORIES:Schlemmerevents
ORGANIZER;CN="Benters Schlemmerdeel":MAILTO:info@benters-schlemmerdeel.de
GEO:52.2617195;10.3766206
X-APPLE-STRUCTURED-LOCATION;VALUE=URI;X-ADDRESS=Benters Schlemmerdeel Hildesheimer Str. 92 Vechelde Niedersachsen 38159 Deutschland;X-APPLE-RADIUS=500;X-TITLE=Hildesheimer Str. 92:geo:10.3766206,52.2617195
END:VEVENT
BEGIN:VEVENT
DTSTART;TZID=Europe/Berlin:20241215T120000
DTEND;TZID=Europe/Berlin:20241215T160000
DTSTAMP:20260424T174712
CREATED:20240308T133830Z
LAST-MODIFIED:20240308T133830Z
UID:10006215-1734264000-1734278400@www.benters-schlemmerdeel.de
SUMMARY:Advents-Buffet
DESCRIPTION:Waldpilzcremesuppe\nAdventssalat mit Birne/Camembert/Granatapfel\nGänsebrust\nEnte (ohne Knochen)\nHirschbraten\nVeganes Kürbisgulasch\nApfelrotkohl/Rosenkohl\nKartoffelklöße/Kroketten\nDessert-Variation\n\nPreis pro Person 36\,90€
URL:https://www.benters-schlemmerdeel.de/schlemmerevent/advents-buffet-2024/2024-12-15/
LOCATION:Benters Schlemmerdeel\, Hildesheimer Str. 92\, Vechelde\, Niedersachsen\, 38159\, Deutschland
CATEGORIES:Schlemmerevents
ORGANIZER;CN="Benters Schlemmerdeel":MAILTO:info@benters-schlemmerdeel.de
GEO:52.2617195;10.3766206
X-APPLE-STRUCTURED-LOCATION;VALUE=URI;X-ADDRESS=Benters Schlemmerdeel Hildesheimer Str. 92 Vechelde Niedersachsen 38159 Deutschland;X-APPLE-RADIUS=500;X-TITLE=Hildesheimer Str. 92:geo:10.3766206,52.2617195
END:VEVENT
BEGIN:VEVENT
DTSTART;TZID=Europe/Berlin:20241218T170000
DTEND;TZID=Europe/Berlin:20241218T170000
DTSTAMP:20260424T174712
CREATED:20240308T123540Z
LAST-MODIFIED:20240308T123540Z
UID:10006188-1734541200-1734541200@www.benters-schlemmerdeel.de
SUMMARY:Typisch amerikanisch
DESCRIPTION:Corn Dogs (Currywurst in Scheiben paniert)\nCesar salad/Cole slaw\nMarinierte Schweinenackensteaks\nSpareribs\nHamburger/Hot Dogs\nMaisgemüse mit Erdnüssen und Zwiebeln\nGegrillte Tomaten\nMac & Cheese/Kartoffelecken\nCandy Bar\n\nPreis pro Person 29\,90€
URL:https://www.benters-schlemmerdeel.de/schlemmerevent/typisch-amerikanisch-2024-2/2024-12-18/
LOCATION:Benters Schlemmerdeel\, Hildesheimer Str. 92\, Vechelde\, Niedersachsen\, 38159\, Deutschland
CATEGORIES:Schlemmerevents
ORGANIZER;CN="Benters Schlemmerdeel":MAILTO:info@benters-schlemmerdeel.de
GEO:52.2617195;10.3766206
X-APPLE-STRUCTURED-LOCATION;VALUE=URI;X-ADDRESS=Benters Schlemmerdeel Hildesheimer Str. 92 Vechelde Niedersachsen 38159 Deutschland;X-APPLE-RADIUS=500;X-TITLE=Hildesheimer Str. 92:geo:10.3766206,52.2617195
END:VEVENT
BEGIN:VEVENT
DTSTART;TZID=Europe/Berlin:20241222T120000
DTEND;TZID=Europe/Berlin:20241222T160000
DTSTAMP:20260424T174712
CREATED:20240308T133830Z
LAST-MODIFIED:20240308T133830Z
UID:10006216-1734868800-1734883200@www.benters-schlemmerdeel.de
SUMMARY:Advents-Buffet
DESCRIPTION:Waldpilzcremesuppe\nAdventssalat mit Birne/Camembert/Granatapfel\nGänsebrust\nEnte (ohne Knochen)\nHirschbraten\nVeganes Kürbisgulasch\nApfelrotkohl/Rosenkohl\nKartoffelklöße/Kroketten\nDessert-Variation\n\nPreis pro Person 36\,90€
URL:https://www.benters-schlemmerdeel.de/schlemmerevent/advents-buffet-2024/2024-12-22/
LOCATION:Benters Schlemmerdeel\, Hildesheimer Str. 92\, Vechelde\, Niedersachsen\, 38159\, Deutschland
CATEGORIES:Schlemmerevents
ORGANIZER;CN="Benters Schlemmerdeel":MAILTO:info@benters-schlemmerdeel.de
GEO:52.2617195;10.3766206
X-APPLE-STRUCTURED-LOCATION;VALUE=URI;X-ADDRESS=Benters Schlemmerdeel Hildesheimer Str. 92 Vechelde Niedersachsen 38159 Deutschland;X-APPLE-RADIUS=500;X-TITLE=Hildesheimer Str. 92:geo:10.3766206,52.2617195
END:VEVENT
BEGIN:VEVENT
DTSTART;VALUE=DATE:20241223
DTEND;VALUE=DATE:20241224
DTSTAMP:20260424T174712
CREATED:20240308T135656Z
LAST-MODIFIED:20240308T135656Z
UID:10006220-1734912000-1734998399@www.benters-schlemmerdeel.de
SUMMARY:Geschlossen
DESCRIPTION:Liebe Freunde & Gäste\, \nwir haben uns dazu entschlossen\, dass unser Restaurant vom 23.12. bis 27.12.2024 geschlossen bleibt.
URL:https://www.benters-schlemmerdeel.de/schlemmerevent/geschlossen-2024-12-23/
LOCATION:Benters Schlemmerdeel\, Hildesheimer Str. 92\, Vechelde\, Niedersachsen\, 38159\, Deutschland
CATEGORIES:Schlemmerevents
ORGANIZER;CN="Benters Schlemmerdeel":MAILTO:info@benters-schlemmerdeel.de
GEO:52.2617195;10.3766206
X-APPLE-STRUCTURED-LOCATION;VALUE=URI;X-ADDRESS=Benters Schlemmerdeel Hildesheimer Str. 92 Vechelde Niedersachsen 38159 Deutschland;X-APPLE-RADIUS=500;X-TITLE=Hildesheimer Str. 92:geo:10.3766206,52.2617195
END:VEVENT
BEGIN:VEVENT
DTSTART;TZID=Europe/Berlin:20241224T100000
DTEND;TZID=Europe/Berlin:20241224T130000
DTSTAMP:20260424T174712
CREATED:20240308T135155Z
LAST-MODIFIED:20241023T081718Z
UID:10006217-1735034400-1735045200@www.benters-schlemmerdeel.de
SUMMARY:Weihnachten 2024
DESCRIPTION:Nach Terminvereinbarung können Sie Ihr Essen bei uns im Restaurant abholen. Wir freuen uns auf Ihre Vorbestellung. \nHier die Abholzeiten:\nDienstag\, 24.12.2024 10:00 bis 13:00 Uhr\nMittwoch\, 25.12.2024 und Donnerstag\, 26.12.2024 10:00 bis 12:30 Uhr \nLiebe Freunde & Gäste\, \nwir haben uns dazu entschlossen\, dass unser Restaurant vom 23.12. bis 27.12.2024 geschlossen bleibt. \nTrotzdem sollen Sie auf unser leckeres Essen nicht verzichten müssen. \nDeshalb werden wir Sie zuhause verwöhnen. Gerne bereiten wir Ihnen Ihr Weihnachtsessen zum Abholen zu. Jedes Essen wird mit den dazugehörigen Saucen und Beilagen für Sie vakuumiert und verpackt. Sie brauchen nur noch ein heißes Wasserbad zum Erhitzen oder eventuell Ihren Dampfgarer. \nVorbestellungen sind dringend bis 04.12.2024 bei uns telefonisch aufzugeben unter 05302/6033. \n  \n\n\n\nWaldpilzcremesuppe\n7\,00€*\n\n\nVegane Maronencremesuppe\n6\,00€*\n\n\n3 Geflügelwiener/selbstgemachter Kartoffelsalat\n9\,50€*\n\n\nSchweinemedaillons in Champignonsauce/Romanesco/Spätzle\n22\,50€*\n\n\nGänsebrust mit Rotweinjus/selbstgemachtem Apfelrotkohl/Kartoffelklößen\n25\,50€*\n\n\nHirschbraten mit Rotweinjus/selbstgemachtem Rosenkohl/Kartoffelklöße\n22\,50€*\n\n\nSchweinegeschnetzeltes/Sauce Bearnaise/Mischgemüse/Spätzle\n19\,90€*\n\n\nVeganes Kürbisgulasch und Reis\n16\,50€*\n\n\nVegane Bowl/Quinoa/Bio Tofu\n18\,90€*\n\n\nRinderbäckchen mit Rotweinjus/Karotten- Ingwergemüse/Kartoffelpüree\n24\,90€*\n\n\nSpanferkelbraten mit Rotweinjus/Sauerkraut/Salzkartoffeln\n17\,90€*\n\n\nRinderroulade/Rahmwirsing/Salzkartoffeln\n19\,90€*\n\n\nGegrillte Hähnchenbrust mit Sauce Choron/Erbsen- Möhren/Spätzle\n19\,90€*\n\n\n500g selbstgemachter Kartoffelsalat\n5\,00€*\n\n\n\n\n\n\nApfel-Cheese Cake im Glas\n6\,00€*\n\n\nLebkuchen Panna Cotta mit Fruchtspiegel im Glas\n6\,00€*\n\n\n\n*Preisänderungen vorbehalten.
URL:https://www.benters-schlemmerdeel.de/schlemmerevent/weihnachten-2024/2024-12-24/
LOCATION:Benters Schlemmerdeel\, Hildesheimer Str. 92\, Vechelde\, Niedersachsen\, 38159\, Deutschland
CATEGORIES:Schlemmerevents
ORGANIZER;CN="Benters Schlemmerdeel":MAILTO:info@benters-schlemmerdeel.de
GEO:52.2617195;10.3766206
X-APPLE-STRUCTURED-LOCATION;VALUE=URI;X-ADDRESS=Benters Schlemmerdeel Hildesheimer Str. 92 Vechelde Niedersachsen 38159 Deutschland;X-APPLE-RADIUS=500;X-TITLE=Hildesheimer Str. 92:geo:10.3766206,52.2617195
END:VEVENT
BEGIN:VEVENT
DTSTART;TZID=Europe/Berlin:20241225T100000
DTEND;TZID=Europe/Berlin:20241225T123000
DTSTAMP:20260424T174712
CREATED:20240308T135155Z
LAST-MODIFIED:20241023T081718Z
UID:10006218-1735120800-1735129800@www.benters-schlemmerdeel.de
SUMMARY:Weihnachten 2024
DESCRIPTION:Nach Terminvereinbarung können Sie Ihr Essen bei uns im Restaurant abholen. Wir freuen uns auf Ihre Vorbestellung. \nHier die Abholzeiten:\nDienstag\, 24.12.2024 10:00 bis 13:00 Uhr\nMittwoch\, 25.12.2024 und Donnerstag\, 26.12.2024 10:00 bis 12:30 Uhr \nLiebe Freunde & Gäste\, \nwir haben uns dazu entschlossen\, dass unser Restaurant vom 23.12. bis 27.12.2024 geschlossen bleibt. \nTrotzdem sollen Sie auf unser leckeres Essen nicht verzichten müssen. \nDeshalb werden wir Sie zuhause verwöhnen. Gerne bereiten wir Ihnen Ihr Weihnachtsessen zum Abholen zu. Jedes Essen wird mit den dazugehörigen Saucen und Beilagen für Sie vakuumiert und verpackt. Sie brauchen nur noch ein heißes Wasserbad zum Erhitzen oder eventuell Ihren Dampfgarer. \nVorbestellungen sind dringend bis 04.12.2024 bei uns telefonisch aufzugeben unter 05302/6033. \n  \n\n\n\nWaldpilzcremesuppe\n7\,00€*\n\n\nVegane Maronencremesuppe\n6\,00€*\n\n\n3 Geflügelwiener/selbstgemachter Kartoffelsalat\n9\,50€*\n\n\nSchweinemedaillons in Champignonsauce/Romanesco/Spätzle\n22\,50€*\n\n\nGänsebrust mit Rotweinjus/selbstgemachtem Apfelrotkohl/Kartoffelklößen\n25\,50€*\n\n\nHirschbraten mit Rotweinjus/selbstgemachtem Rosenkohl/Kartoffelklöße\n22\,50€*\n\n\nSchweinegeschnetzeltes/Sauce Bearnaise/Mischgemüse/Spätzle\n19\,90€*\n\n\nVeganes Kürbisgulasch und Reis\n16\,50€*\n\n\nVegane Bowl/Quinoa/Bio Tofu\n18\,90€*\n\n\nRinderbäckchen mit Rotweinjus/Karotten- Ingwergemüse/Kartoffelpüree\n24\,90€*\n\n\nSpanferkelbraten mit Rotweinjus/Sauerkraut/Salzkartoffeln\n17\,90€*\n\n\nRinderroulade/Rahmwirsing/Salzkartoffeln\n19\,90€*\n\n\nGegrillte Hähnchenbrust mit Sauce Choron/Erbsen- Möhren/Spätzle\n19\,90€*\n\n\n500g selbstgemachter Kartoffelsalat\n5\,00€*\n\n\n\n\n\n\nApfel-Cheese Cake im Glas\n6\,00€*\n\n\nLebkuchen Panna Cotta mit Fruchtspiegel im Glas\n6\,00€*\n\n\n\n*Preisänderungen vorbehalten.
URL:https://www.benters-schlemmerdeel.de/schlemmerevent/weihnachten-2024/2024-12-25/
LOCATION:Benters Schlemmerdeel\, Hildesheimer Str. 92\, Vechelde\, Niedersachsen\, 38159\, Deutschland
CATEGORIES:Schlemmerevents
ORGANIZER;CN="Benters Schlemmerdeel":MAILTO:info@benters-schlemmerdeel.de
GEO:52.2617195;10.3766206
X-APPLE-STRUCTURED-LOCATION;VALUE=URI;X-ADDRESS=Benters Schlemmerdeel Hildesheimer Str. 92 Vechelde Niedersachsen 38159 Deutschland;X-APPLE-RADIUS=500;X-TITLE=Hildesheimer Str. 92:geo:10.3766206,52.2617195
END:VEVENT
BEGIN:VEVENT
DTSTART;TZID=Europe/Berlin:20241226T100000
DTEND;TZID=Europe/Berlin:20241226T123000
DTSTAMP:20260424T174712
CREATED:20240308T135155Z
LAST-MODIFIED:20241023T081718Z
UID:10006219-1735207200-1735216200@www.benters-schlemmerdeel.de
SUMMARY:Weihnachten 2024
DESCRIPTION:Nach Terminvereinbarung können Sie Ihr Essen bei uns im Restaurant abholen. Wir freuen uns auf Ihre Vorbestellung. \nHier die Abholzeiten:\nDienstag\, 24.12.2024 10:00 bis 13:00 Uhr\nMittwoch\, 25.12.2024 und Donnerstag\, 26.12.2024 10:00 bis 12:30 Uhr \nLiebe Freunde & Gäste\, \nwir haben uns dazu entschlossen\, dass unser Restaurant vom 23.12. bis 27.12.2024 geschlossen bleibt. \nTrotzdem sollen Sie auf unser leckeres Essen nicht verzichten müssen. \nDeshalb werden wir Sie zuhause verwöhnen. Gerne bereiten wir Ihnen Ihr Weihnachtsessen zum Abholen zu. Jedes Essen wird mit den dazugehörigen Saucen und Beilagen für Sie vakuumiert und verpackt. Sie brauchen nur noch ein heißes Wasserbad zum Erhitzen oder eventuell Ihren Dampfgarer. \nVorbestellungen sind dringend bis 04.12.2024 bei uns telefonisch aufzugeben unter 05302/6033. \n  \n\n\n\nWaldpilzcremesuppe\n7\,00€*\n\n\nVegane Maronencremesuppe\n6\,00€*\n\n\n3 Geflügelwiener/selbstgemachter Kartoffelsalat\n9\,50€*\n\n\nSchweinemedaillons in Champignonsauce/Romanesco/Spätzle\n22\,50€*\n\n\nGänsebrust mit Rotweinjus/selbstgemachtem Apfelrotkohl/Kartoffelklößen\n25\,50€*\n\n\nHirschbraten mit Rotweinjus/selbstgemachtem Rosenkohl/Kartoffelklöße\n22\,50€*\n\n\nSchweinegeschnetzeltes/Sauce Bearnaise/Mischgemüse/Spätzle\n19\,90€*\n\n\nVeganes Kürbisgulasch und Reis\n16\,50€*\n\n\nVegane Bowl/Quinoa/Bio Tofu\n18\,90€*\n\n\nRinderbäckchen mit Rotweinjus/Karotten- Ingwergemüse/Kartoffelpüree\n24\,90€*\n\n\nSpanferkelbraten mit Rotweinjus/Sauerkraut/Salzkartoffeln\n17\,90€*\n\n\nRinderroulade/Rahmwirsing/Salzkartoffeln\n19\,90€*\n\n\nGegrillte Hähnchenbrust mit Sauce Choron/Erbsen- Möhren/Spätzle\n19\,90€*\n\n\n500g selbstgemachter Kartoffelsalat\n5\,00€*\n\n\n\n\n\n\nApfel-Cheese Cake im Glas\n6\,00€*\n\n\nLebkuchen Panna Cotta mit Fruchtspiegel im Glas\n6\,00€*\n\n\n\n*Preisänderungen vorbehalten.
URL:https://www.benters-schlemmerdeel.de/schlemmerevent/weihnachten-2024/2024-12-26/
LOCATION:Benters Schlemmerdeel\, Hildesheimer Str. 92\, Vechelde\, Niedersachsen\, 38159\, Deutschland
CATEGORIES:Schlemmerevents
ORGANIZER;CN="Benters Schlemmerdeel":MAILTO:info@benters-schlemmerdeel.de
GEO:52.2617195;10.3766206
X-APPLE-STRUCTURED-LOCATION;VALUE=URI;X-ADDRESS=Benters Schlemmerdeel Hildesheimer Str. 92 Vechelde Niedersachsen 38159 Deutschland;X-APPLE-RADIUS=500;X-TITLE=Hildesheimer Str. 92:geo:10.3766206,52.2617195
END:VEVENT
BEGIN:VEVENT
DTSTART;VALUE=DATE:20241227
DTEND;VALUE=DATE:20241228
DTSTAMP:20260424T174712
CREATED:20240308T135741Z
LAST-MODIFIED:20240308T135741Z
UID:10006221-1735257600-1735343999@www.benters-schlemmerdeel.de
SUMMARY:Geschlossen
DESCRIPTION:Liebe Freunde & Gäste\, \nwir haben uns dazu entschlossen\, dass unser Restaurant vom 23.12. bis 27.12.2024 geschlossen bleibt.
URL:https://www.benters-schlemmerdeel.de/schlemmerevent/geschlossen-2024-12-27/
LOCATION:Benters Schlemmerdeel\, Hildesheimer Str. 92\, Vechelde\, Niedersachsen\, 38159\, Deutschland
CATEGORIES:Schlemmerevents
ORGANIZER;CN="Benters Schlemmerdeel":MAILTO:info@benters-schlemmerdeel.de
GEO:52.2617195;10.3766206
X-APPLE-STRUCTURED-LOCATION;VALUE=URI;X-ADDRESS=Benters Schlemmerdeel Hildesheimer Str. 92 Vechelde Niedersachsen 38159 Deutschland;X-APPLE-RADIUS=500;X-TITLE=Hildesheimer Str. 92:geo:10.3766206,52.2617195
END:VEVENT
BEGIN:VEVENT
DTSTART;TZID=Europe/Berlin:20241231T170000
DTEND;TZID=Europe/Berlin:20241231T210000
DTSTAMP:20260424T174712
CREATED:20240308T135921Z
LAST-MODIFIED:20240308T135950Z
UID:10006222-1735664400-1735678800@www.benters-schlemmerdeel.de
SUMMARY:Silvester-Buffet
DESCRIPTION:Vorspeisen-Variation:\nRoastbeef/Remoulade\nGarnelen-Cocktail\nTomate/Büffelmozzarella\nRäucherlachs/Rösti\nEingelegtes Gemüse\nZanderfilet/Sc. Choron\nSchweinefilet/Waldpilzragout\nRinderbäckchen/getrüffelte Rotweinjus\nBunte Gemüseauswahl\nKartoffelgratin/Kräuterkartoffeln\nDessert-Auswahl\n\nPreis pro Person 38\,90€ \nWir haben für Sie bis 22:00 Uhr geöffnet.
URL:https://www.benters-schlemmerdeel.de/schlemmerevent/silvester-buffet-2024/
LOCATION:Benters Schlemmerdeel\, Hildesheimer Str. 92\, Vechelde\, Niedersachsen\, 38159\, Deutschland
CATEGORIES:Schlemmerevents
ORGANIZER;CN="Benters Schlemmerdeel":MAILTO:info@benters-schlemmerdeel.de
GEO:52.2617195;10.3766206
X-APPLE-STRUCTURED-LOCATION;VALUE=URI;X-ADDRESS=Benters Schlemmerdeel Hildesheimer Str. 92 Vechelde Niedersachsen 38159 Deutschland;X-APPLE-RADIUS=500;X-TITLE=Hildesheimer Str. 92:geo:10.3766206,52.2617195
END:VEVENT
END:VCALENDAR