BEGIN:VCALENDAR
VERSION:2.0
PRODID:-//Benters Schlemmerdeel - ECPv6.15.20//NONSGML v1.0//EN
CALSCALE:GREGORIAN
METHOD:PUBLISH
X-ORIGINAL-URL:https://www.benters-schlemmerdeel.de
X-WR-CALDESC:Veranstaltungen für Benters Schlemmerdeel
REFRESH-INTERVAL;VALUE=DURATION:PT1H
X-Robots-Tag:noindex
X-PUBLISHED-TTL:PT1H
BEGIN:VTIMEZONE
TZID:Europe/Berlin
BEGIN:DAYLIGHT
TZOFFSETFROM:+0100
TZOFFSETTO:+0200
TZNAME:CEST
DTSTART:20230326T010000
END:DAYLIGHT
BEGIN:STANDARD
TZOFFSETFROM:+0200
TZOFFSETTO:+0100
TZNAME:CET
DTSTART:20231029T010000
END:STANDARD
BEGIN:DAYLIGHT
TZOFFSETFROM:+0100
TZOFFSETTO:+0200
TZNAME:CEST
DTSTART:20240331T010000
END:DAYLIGHT
BEGIN:STANDARD
TZOFFSETFROM:+0200
TZOFFSETTO:+0100
TZNAME:CET
DTSTART:20241027T010000
END:STANDARD
BEGIN:DAYLIGHT
TZOFFSETFROM:+0100
TZOFFSETTO:+0200
TZNAME:CEST
DTSTART:20250330T010000
END:DAYLIGHT
BEGIN:STANDARD
TZOFFSETFROM:+0200
TZOFFSETTO:+0100
TZNAME:CET
DTSTART:20251026T010000
END:STANDARD
END:VTIMEZONE
BEGIN:VEVENT
DTSTART;TZID=Europe/Berlin:20241106T170000
DTEND;TZID=Europe/Berlin:20241106T170000
DTSTAMP:20260425T004444
CREATED:20240308T132916Z
LAST-MODIFIED:20240308T132938Z
UID:10006203-1730912400-1730912400@www.benters-schlemmerdeel.de
SUMMARY:Braunkohl-Buffet
DESCRIPTION:Niedersächsische Hochzeitssuppe\nBraunkohlsalat/Tomate/Cashewkerne\nFrischer\, regionaler Braunkohl (von Bauer Werthmann aus Liedingen)\nmit regionaler\, geräucherter und frischer\nBregenwurst (von Fleischer Brandes aus Vallstedt)\nKasseler Braten\nSalzkartoffeln und Bratkartoffeln\nGötterspeise mit Vanillesauce\n\nPreis pro Person 26\,90€
URL:https://www.benters-schlemmerdeel.de/schlemmerevent/braunkohl-buffet-2024-2/
LOCATION:Benters Schlemmerdeel\, Hildesheimer Str. 92\, Vechelde\, Niedersachsen\, 38159\, Deutschland
CATEGORIES:Schlemmerevents
ORGANIZER;CN="Benters Schlemmerdeel":MAILTO:info@benters-schlemmerdeel.de
GEO:52.2617195;10.3766206
X-APPLE-STRUCTURED-LOCATION;VALUE=URI;X-ADDRESS=Benters Schlemmerdeel Hildesheimer Str. 92 Vechelde Niedersachsen 38159 Deutschland;X-APPLE-RADIUS=500;X-TITLE=Hildesheimer Str. 92:geo:10.3766206,52.2617195
END:VEVENT
BEGIN:VEVENT
DTSTART;TZID=Europe/Berlin:20241110T120000
DTEND;TZID=Europe/Berlin:20241110T160000
DTSTAMP:20260425T004444
CREATED:20240308T133049Z
LAST-MODIFIED:20240308T133049Z
UID:10006204-1731240000-1731254400@www.benters-schlemmerdeel.de
SUMMARY:Gänselust-Buffet
DESCRIPTION:Vegane Maronencremesuppe\nGänseschmalz mit Petersbrot\nGänsebrust/Gänsekeule/Gänseragout\nApfelrotkohl\nKarotten-Ingwergemüse\nGeschmorte Bratäpfel/Preisebeeren\nKartoffelklöße/Salzkartoffeln\nDessertauswahl\n\nPreis pro Person 36\,90€
URL:https://www.benters-schlemmerdeel.de/schlemmerevent/gaenselust-buffet-2024/
LOCATION:Benters Schlemmerdeel\, Hildesheimer Str. 92\, Vechelde\, Niedersachsen\, 38159\, Deutschland
CATEGORIES:Schlemmerevents
ORGANIZER;CN="Benters Schlemmerdeel":MAILTO:info@benters-schlemmerdeel.de
GEO:52.2617195;10.3766206
X-APPLE-STRUCTURED-LOCATION;VALUE=URI;X-ADDRESS=Benters Schlemmerdeel Hildesheimer Str. 92 Vechelde Niedersachsen 38159 Deutschland;X-APPLE-RADIUS=500;X-TITLE=Hildesheimer Str. 92:geo:10.3766206,52.2617195
END:VEVENT
BEGIN:VEVENT
DTSTART;TZID=Europe/Berlin:20241113T170000
DTEND;TZID=Europe/Berlin:20241113T170000
DTSTAMP:20260425T004444
CREATED:20240308T133203Z
LAST-MODIFIED:20240308T133203Z
UID:10006205-1731517200-1731517200@www.benters-schlemmerdeel.de
SUMMARY:Rouladen-Buffet
DESCRIPTION:Rinderrouladen\nPutenrouladen gefüllt mit Romana\,\nTomate/Mozzarella\nKohlrouladen mit Mettfüllung\nApfelrotkohl/Karotten-Ingwer Gemüse\nGetrüffelte Rotweinjus/Sauce Choron\nhausgemachte Kartoffelklöße\nSpätzle und Salzkartoffeln\nDessertauswahl\n\nPreis pro Person: 33\,90€
URL:https://www.benters-schlemmerdeel.de/schlemmerevent/rouladen-buffet-2024-2/
LOCATION:Benters Schlemmerdeel\, Hildesheimer Str. 92\, Vechelde\, Niedersachsen\, 38159\, Deutschland
CATEGORIES:Schlemmerevents
ORGANIZER;CN="Benters Schlemmerdeel":MAILTO:info@benters-schlemmerdeel.de
GEO:52.2617195;10.3766206
X-APPLE-STRUCTURED-LOCATION;VALUE=URI;X-ADDRESS=Benters Schlemmerdeel Hildesheimer Str. 92 Vechelde Niedersachsen 38159 Deutschland;X-APPLE-RADIUS=500;X-TITLE=Hildesheimer Str. 92:geo:10.3766206,52.2617195
END:VEVENT
BEGIN:VEVENT
DTSTART;TZID=Europe/Berlin:20241120T170000
DTEND;TZID=Europe/Berlin:20241120T170000
DTSTAMP:20260425T004444
CREATED:20240308T133257Z
LAST-MODIFIED:20240308T133257Z
UID:10006206-1732122000-1732122000@www.benters-schlemmerdeel.de
SUMMARY:Lieblinge auf dem Buffet
DESCRIPTION:Tomatencremesuppe\nRoastbeef/Remoulade\nGurkensalat\nHirschbraten/Rosenkohl/Kroketten\nEnte (ohne Knochen) /Rahmwirsing/Kartoffelgratin\nSchweinemedaillons/Champignonsauce/Romanesco\nDessert-Variation\n\nPreis pro Person 35\,50€
URL:https://www.benters-schlemmerdeel.de/schlemmerevent/lieblinge-auf-dem-buffet-2024-2/
LOCATION:Benters Schlemmerdeel\, Hildesheimer Str. 92\, Vechelde\, Niedersachsen\, 38159\, Deutschland
CATEGORIES:Schlemmerevents
ORGANIZER;CN="Benters Schlemmerdeel":MAILTO:info@benters-schlemmerdeel.de
GEO:52.2617195;10.3766206
X-APPLE-STRUCTURED-LOCATION;VALUE=URI;X-ADDRESS=Benters Schlemmerdeel Hildesheimer Str. 92 Vechelde Niedersachsen 38159 Deutschland;X-APPLE-RADIUS=500;X-TITLE=Hildesheimer Str. 92:geo:10.3766206,52.2617195
END:VEVENT
BEGIN:VEVENT
DTSTART;TZID=Europe/Berlin:20241122T170000
DTEND;TZID=Europe/Berlin:20241122T170000
DTSTAMP:20260425T004444
CREATED:20240308T133608Z
LAST-MODIFIED:20240308T133608Z
UID:10006207-1732294800-1732294800@www.benters-schlemmerdeel.de
SUMMARY:Benters Weihnachts-Buffet
DESCRIPTION:Vegane Maronencremesuppe\nRote Bete Carpaccio/Birne/Ziegenkäse/Feigensenf\nGänsebrust\nHirschbraten\nSchweineschnitzel\nVeganes Kürbisgulasch\nBunte Gemüseauswahl/Apfelrotkohl\nKartoffelklöße/Spätzle/Salzkartoffeln\nDessert-Variation\n\nPreis pro Person 34\,90€
URL:https://www.benters-schlemmerdeel.de/schlemmerevent/benters-weihnachts-buffet-2024/2024-11-22/
LOCATION:Benters Schlemmerdeel\, Hildesheimer Str. 92\, Vechelde\, Niedersachsen\, 38159\, Deutschland
CATEGORIES:Schlemmerevents
ORGANIZER;CN="Benters Schlemmerdeel":MAILTO:info@benters-schlemmerdeel.de
GEO:52.2617195;10.3766206
X-APPLE-STRUCTURED-LOCATION;VALUE=URI;X-ADDRESS=Benters Schlemmerdeel Hildesheimer Str. 92 Vechelde Niedersachsen 38159 Deutschland;X-APPLE-RADIUS=500;X-TITLE=Hildesheimer Str. 92:geo:10.3766206,52.2617195
END:VEVENT
BEGIN:VEVENT
DTSTART;TZID=Europe/Berlin:20241128T170000
DTEND;TZID=Europe/Berlin:20241128T170000
DTSTAMP:20260425T004444
CREATED:20240308T133608Z
LAST-MODIFIED:20240308T133608Z
UID:10006208-1732813200-1732813200@www.benters-schlemmerdeel.de
SUMMARY:Benters Weihnachts-Buffet
DESCRIPTION:Vegane Maronencremesuppe\nRote Bete Carpaccio/Birne/Ziegenkäse/Feigensenf\nGänsebrust\nHirschbraten\nSchweineschnitzel\nVeganes Kürbisgulasch\nBunte Gemüseauswahl/Apfelrotkohl\nKartoffelklöße/Spätzle/Salzkartoffeln\nDessert-Variation\n\nPreis pro Person 34\,90€
URL:https://www.benters-schlemmerdeel.de/schlemmerevent/benters-weihnachts-buffet-2024/2024-11-28/
LOCATION:Benters Schlemmerdeel\, Hildesheimer Str. 92\, Vechelde\, Niedersachsen\, 38159\, Deutschland
CATEGORIES:Schlemmerevents
ORGANIZER;CN="Benters Schlemmerdeel":MAILTO:info@benters-schlemmerdeel.de
GEO:52.2617195;10.3766206
X-APPLE-STRUCTURED-LOCATION;VALUE=URI;X-ADDRESS=Benters Schlemmerdeel Hildesheimer Str. 92 Vechelde Niedersachsen 38159 Deutschland;X-APPLE-RADIUS=500;X-TITLE=Hildesheimer Str. 92:geo:10.3766206,52.2617195
END:VEVENT
BEGIN:VEVENT
DTSTART;TZID=Europe/Berlin:20241129T170000
DTEND;TZID=Europe/Berlin:20241129T170000
DTSTAMP:20260425T004444
CREATED:20240308T133608Z
LAST-MODIFIED:20240308T133608Z
UID:10006209-1732899600-1732899600@www.benters-schlemmerdeel.de
SUMMARY:Benters Weihnachts-Buffet
DESCRIPTION:Vegane Maronencremesuppe\nRote Bete Carpaccio/Birne/Ziegenkäse/Feigensenf\nGänsebrust\nHirschbraten\nSchweineschnitzel\nVeganes Kürbisgulasch\nBunte Gemüseauswahl/Apfelrotkohl\nKartoffelklöße/Spätzle/Salzkartoffeln\nDessert-Variation\n\nPreis pro Person 34\,90€
URL:https://www.benters-schlemmerdeel.de/schlemmerevent/benters-weihnachts-buffet-2024/2024-11-29/
LOCATION:Benters Schlemmerdeel\, Hildesheimer Str. 92\, Vechelde\, Niedersachsen\, 38159\, Deutschland
CATEGORIES:Schlemmerevents
ORGANIZER;CN="Benters Schlemmerdeel":MAILTO:info@benters-schlemmerdeel.de
GEO:52.2617195;10.3766206
X-APPLE-STRUCTURED-LOCATION;VALUE=URI;X-ADDRESS=Benters Schlemmerdeel Hildesheimer Str. 92 Vechelde Niedersachsen 38159 Deutschland;X-APPLE-RADIUS=500;X-TITLE=Hildesheimer Str. 92:geo:10.3766206,52.2617195
END:VEVENT
END:VCALENDAR