BEGIN:VCALENDAR
VERSION:2.0
PRODID:-//Benters Schlemmerdeel - ECPv6.15.20//NONSGML v1.0//EN
CALSCALE:GREGORIAN
METHOD:PUBLISH
X-ORIGINAL-URL:https://www.benters-schlemmerdeel.de
X-WR-CALDESC:Veranstaltungen für Benters Schlemmerdeel
REFRESH-INTERVAL;VALUE=DURATION:PT1H
X-Robots-Tag:noindex
X-PUBLISHED-TTL:PT1H
BEGIN:VTIMEZONE
TZID:Europe/Berlin
BEGIN:DAYLIGHT
TZOFFSETFROM:+0100
TZOFFSETTO:+0200
TZNAME:CEST
DTSTART:20230326T010000
END:DAYLIGHT
BEGIN:STANDARD
TZOFFSETFROM:+0200
TZOFFSETTO:+0100
TZNAME:CET
DTSTART:20231029T010000
END:STANDARD
BEGIN:DAYLIGHT
TZOFFSETFROM:+0100
TZOFFSETTO:+0200
TZNAME:CEST
DTSTART:20240331T010000
END:DAYLIGHT
BEGIN:STANDARD
TZOFFSETFROM:+0200
TZOFFSETTO:+0100
TZNAME:CET
DTSTART:20241027T010000
END:STANDARD
BEGIN:DAYLIGHT
TZOFFSETFROM:+0100
TZOFFSETTO:+0200
TZNAME:CEST
DTSTART:20250330T010000
END:DAYLIGHT
BEGIN:STANDARD
TZOFFSETFROM:+0200
TZOFFSETTO:+0100
TZNAME:CET
DTSTART:20251026T010000
END:STANDARD
END:VTIMEZONE
BEGIN:VEVENT
DTSTART;TZID=Europe/Berlin:20241002T170000
DTEND;TZID=Europe/Berlin:20241002T170000
DTSTAMP:20260425T020228
CREATED:20240308T132257Z
LAST-MODIFIED:20240308T132315Z
UID:10006199-1727888400-1727888400@www.benters-schlemmerdeel.de
SUMMARY:Bayrisches Schmankerl Buffet
DESCRIPTION:Bayrisches Carpaccio vom Schweinebraten\nWurstsalat/Obatzda\nBayrische Mini Laugen-Burger (Leberkäse)\nWeißwurst/Laugenbrezel\nZwiebelrostbraten\nRinderroulade mit Weißwurstfüllung\nSpanferkel\nSauerkraut/Apfelrotkohl\nSalzkartoffeln/Kartoffelklöße\nDessert-Variation\n\nPreis pro Person 32\,90€
URL:https://www.benters-schlemmerdeel.de/schlemmerevent/bayrisches-schmankerl-buffet-2024/
LOCATION:Benters Schlemmerdeel\, Hildesheimer Str. 92\, Vechelde\, Niedersachsen\, 38159\, Deutschland
CATEGORIES:Schlemmerevents
ORGANIZER;CN="Benters Schlemmerdeel":MAILTO:info@benters-schlemmerdeel.de
GEO:52.2617195;10.3766206
X-APPLE-STRUCTURED-LOCATION;VALUE=URI;X-ADDRESS=Benters Schlemmerdeel Hildesheimer Str. 92 Vechelde Niedersachsen 38159 Deutschland;X-APPLE-RADIUS=500;X-TITLE=Hildesheimer Str. 92:geo:10.3766206,52.2617195
END:VEVENT
BEGIN:VEVENT
DTSTART;TZID=Europe/Berlin:20241006T120000
DTEND;TZID=Europe/Berlin:20241006T160000
DTSTAMP:20260425T020228
CREATED:20240308T124943Z
LAST-MODIFIED:20240308T124943Z
UID:10006195-1728216000-1728230400@www.benters-schlemmerdeel.de
SUMMARY:Herbstspaziergang (Buffet)
DESCRIPTION:Kürbiscremesuppe\nMini-Mettigel\nTomaten-Brot-Salat/Ziegenkäse\nRote Bete Carpaccio/Apfel/Cashewkerne\nKohlrouladen/Süßkartoffelpfanne\nHirschbraten/Waldpilzragout/Apfelrotkohl/Kroketten\nRinderbäckchen/Karotten-\nIngwergemüse/Kartoffelklöße\nPasta/Wirsing/Pilze/Parmesan-Thymian-Sauce\nRote Grütze/Vanillesauce\n\nPreis pro Person: 36\,90€
URL:https://www.benters-schlemmerdeel.de/schlemmerevent/herbstspaziergang-buffet/2024-10-06/
LOCATION:Benters Schlemmerdeel\, Hildesheimer Str. 92\, Vechelde\, Niedersachsen\, 38159\, Deutschland
CATEGORIES:Schlemmerevents
ORGANIZER;CN="Benters Schlemmerdeel":MAILTO:info@benters-schlemmerdeel.de
GEO:52.2617195;10.3766206
X-APPLE-STRUCTURED-LOCATION;VALUE=URI;X-ADDRESS=Benters Schlemmerdeel Hildesheimer Str. 92 Vechelde Niedersachsen 38159 Deutschland;X-APPLE-RADIUS=500;X-TITLE=Hildesheimer Str. 92:geo:10.3766206,52.2617195
END:VEVENT
BEGIN:VEVENT
DTSTART;TZID=Europe/Berlin:20241011T170000
DTEND;TZID=Europe/Berlin:20241011T170000
DTSTAMP:20260425T020228
CREATED:20240308T132425Z
LAST-MODIFIED:20240308T132425Z
UID:10006200-1728666000-1728666000@www.benters-schlemmerdeel.de
SUMMARY:Schnitzel\, Gulasch & Geschnetzeltes
DESCRIPTION:Minifrikadellen/Kartoffelsalat\nSauerfleisch/Remouladensauce\nSchweineschnitzel/Champignonsauce\nPutengeschnetzeltes/Tomatencurry\nHirschgulasch\nbunte Gemüseauswahl\nSpätzle/Salzkartoffeln\nDessert-Variation\n\nPreis pro Person: 33\,90€
URL:https://www.benters-schlemmerdeel.de/schlemmerevent/schnitzel-gulasch-geschnetzeltes-2024/
LOCATION:Benters Schlemmerdeel\, Hildesheimer Str. 92\, Vechelde\, Niedersachsen\, 38159\, Deutschland
CATEGORIES:Schlemmerevents
ORGANIZER;CN="Benters Schlemmerdeel":MAILTO:info@benters-schlemmerdeel.de
GEO:52.2617195;10.3766206
X-APPLE-STRUCTURED-LOCATION;VALUE=URI;X-ADDRESS=Benters Schlemmerdeel Hildesheimer Str. 92 Vechelde Niedersachsen 38159 Deutschland;X-APPLE-RADIUS=500;X-TITLE=Hildesheimer Str. 92:geo:10.3766206,52.2617195
END:VEVENT
BEGIN:VEVENT
DTSTART;TZID=Europe/Berlin:20241018T170000
DTEND;TZID=Europe/Berlin:20241018T170000
DTSTAMP:20260425T020228
CREATED:20240308T132526Z
LAST-MODIFIED:20240308T132549Z
UID:10006201-1729270800-1729270800@www.benters-schlemmerdeel.de
SUMMARY:Benters kreative Küche
DESCRIPTION:Melone mit Serrano\nBüffelmozzarella mit Kirschtomaten\nMango-Rucolasalat\nSeehecht mit Tomatensalsa\nHähnchenbrust mit Minzgremolata\nantiautoritäre Involtinis vom Schwein/Sauce\nBéarnaise\ngegrilltes Gemüse\nRosmarinkartoffeln/Basmatireis\nDessert-Variation\n\nPreis pro Person 33\,90€
URL:https://www.benters-schlemmerdeel.de/schlemmerevent/benters-kreative-kueche-2024/
LOCATION:Benters Schlemmerdeel\, Hildesheimer Str. 92\, Vechelde\, Niedersachsen\, 38159\, Deutschland
CATEGORIES:Schlemmerevents
ORGANIZER;CN="Benters Schlemmerdeel":MAILTO:info@benters-schlemmerdeel.de
GEO:52.2617195;10.3766206
X-APPLE-STRUCTURED-LOCATION;VALUE=URI;X-ADDRESS=Benters Schlemmerdeel Hildesheimer Str. 92 Vechelde Niedersachsen 38159 Deutschland;X-APPLE-RADIUS=500;X-TITLE=Hildesheimer Str. 92:geo:10.3766206,52.2617195
END:VEVENT
BEGIN:VEVENT
DTSTART;TZID=Europe/Berlin:20241025T170000
DTEND;TZID=Europe/Berlin:20241025T170000
DTSTAMP:20260425T020228
CREATED:20240308T132751Z
LAST-MODIFIED:20240308T132810Z
UID:10006202-1729875600-1729875600@www.benters-schlemmerdeel.de
SUMMARY:Benters little Italy
DESCRIPTION:Antipasti\nVitello Tonato/luftgetrocknete Salami mit Grana\nSteaks vom Rind/Hähnchen/Grillsaucen\nLasagne classico\nVegetarische Ravioli/Käsesauce\nPenne amatricana\nRosmarinkartoffeln/Sour Cream\nKartoffelecken\nPanna Cotta mit Fruchtsauce\n\nPreis pro Person: 31\,90€ \nEhrt die Nudeln. Feiert die Pasta. Der 25. Oktober steht seit 1995 für nicht weniger als den Weltpastatag bzw. Weltnudeltag (engl. World Pasta Day). Alle Nudel- und Pasta-Fans dürften sich dieses Datum im Kalender der kuriosen Feiertage aus aller Welt wohl längst fett angestrichen haben.
URL:https://www.benters-schlemmerdeel.de/schlemmerevent/benters-little-italy-2024-2/
LOCATION:Benters Schlemmerdeel\, Hildesheimer Str. 92\, Vechelde\, Niedersachsen\, 38159\, Deutschland
CATEGORIES:Schlemmerevents
ORGANIZER;CN="Benters Schlemmerdeel":MAILTO:info@benters-schlemmerdeel.de
GEO:52.2617195;10.3766206
X-APPLE-STRUCTURED-LOCATION;VALUE=URI;X-ADDRESS=Benters Schlemmerdeel Hildesheimer Str. 92 Vechelde Niedersachsen 38159 Deutschland;X-APPLE-RADIUS=500;X-TITLE=Hildesheimer Str. 92:geo:10.3766206,52.2617195
END:VEVENT
BEGIN:VEVENT
DTSTART;TZID=Europe/Berlin:20241030T170000
DTEND;TZID=Europe/Berlin:20241030T170000
DTSTAMP:20260425T020228
CREATED:20240308T132115Z
LAST-MODIFIED:20240308T132115Z
UID:10006197-1730307600-1730307600@www.benters-schlemmerdeel.de
SUMMARY:Surf & Turf
DESCRIPTION:Steaks & Riesengarnelen (Buffet) \n\nTomatencremesuppe\nCole slaw/Gurkensalat\nBlack Tiger Riesengarnelen\nRinderhüfte/Schweinenackensteaks/Hähnchenbrust\nAioli/BBQ/Sour Cream\nKräuterkartoffeln/Steakbrot\nDessert-Variation\n\nPreis pro Person 36\,90€
URL:https://www.benters-schlemmerdeel.de/schlemmerevent/surf-turf-2024-2/2024-10-30/
LOCATION:Benters Schlemmerdeel\, Hildesheimer Str. 92\, Vechelde\, Niedersachsen\, 38159\, Deutschland
CATEGORIES:Schlemmerevents
ORGANIZER;CN="Benters Schlemmerdeel":MAILTO:info@benters-schlemmerdeel.de
GEO:52.2617195;10.3766206
X-APPLE-STRUCTURED-LOCATION;VALUE=URI;X-ADDRESS=Benters Schlemmerdeel Hildesheimer Str. 92 Vechelde Niedersachsen 38159 Deutschland;X-APPLE-RADIUS=500;X-TITLE=Hildesheimer Str. 92:geo:10.3766206,52.2617195
END:VEVENT
END:VCALENDAR