BEGIN:VCALENDAR
VERSION:2.0
PRODID:-//Benters Schlemmerdeel - ECPv6.15.20//NONSGML v1.0//EN
CALSCALE:GREGORIAN
METHOD:PUBLISH
X-ORIGINAL-URL:https://www.benters-schlemmerdeel.de
X-WR-CALDESC:Veranstaltungen für Benters Schlemmerdeel
REFRESH-INTERVAL;VALUE=DURATION:PT1H
X-Robots-Tag:noindex
X-PUBLISHED-TTL:PT1H
BEGIN:VTIMEZONE
TZID:Europe/Berlin
BEGIN:DAYLIGHT
TZOFFSETFROM:+0100
TZOFFSETTO:+0200
TZNAME:CEST
DTSTART:20230326T010000
END:DAYLIGHT
BEGIN:STANDARD
TZOFFSETFROM:+0200
TZOFFSETTO:+0100
TZNAME:CET
DTSTART:20231029T010000
END:STANDARD
BEGIN:DAYLIGHT
TZOFFSETFROM:+0100
TZOFFSETTO:+0200
TZNAME:CEST
DTSTART:20240331T010000
END:DAYLIGHT
BEGIN:STANDARD
TZOFFSETFROM:+0200
TZOFFSETTO:+0100
TZNAME:CET
DTSTART:20241027T010000
END:STANDARD
BEGIN:DAYLIGHT
TZOFFSETFROM:+0100
TZOFFSETTO:+0200
TZNAME:CEST
DTSTART:20250330T010000
END:DAYLIGHT
BEGIN:STANDARD
TZOFFSETFROM:+0200
TZOFFSETTO:+0100
TZNAME:CET
DTSTART:20251026T010000
END:STANDARD
END:VTIMEZONE
BEGIN:VEVENT
DTSTART;TZID=Europe/Berlin:20240904T170000
DTEND;TZID=Europe/Berlin:20240904T170000
DTSTAMP:20260425T030258
CREATED:20240308T123941Z
LAST-MODIFIED:20240308T123941Z
UID:10006190-1725469200-1725469200@www.benters-schlemmerdeel.de
SUMMARY:Tag der Currywurst (Buffet)
DESCRIPTION:Klassisch Brüh- und Bratcurrywurst\nWildcurrywurst/Rotwein-Zwiebelsauce\nGeflügelcurrywurst/Caribbean style mit Mango\nCurrywurst Nuggets/Erdnuss-Currysauce\nMichas Currywurstschnitzel mit Käse überbacken\nPommes frites/Bratkartoffeln/Kartoffelsalat/Schrippen\nCurrygemüse/Gurkensalat/Cole slaw\nGötterspeise mit Vanillesauce\n\nPreis pro Person 22\,90€ \nRan an die Wurst! Kommt mit eurer Familie/Freunden/Verein – WICHTIG mit CURRYWURSTFANS!!!
URL:https://www.benters-schlemmerdeel.de/schlemmerevent/tag-der-currywurst-buffet/
LOCATION:Benters Schlemmerdeel\, Hildesheimer Str. 92\, Vechelde\, Niedersachsen\, 38159\, Deutschland
CATEGORIES:Schlemmerevents
ORGANIZER;CN="Benters Schlemmerdeel":MAILTO:info@benters-schlemmerdeel.de
GEO:52.2617195;10.3766206
X-APPLE-STRUCTURED-LOCATION;VALUE=URI;X-ADDRESS=Benters Schlemmerdeel Hildesheimer Str. 92 Vechelde Niedersachsen 38159 Deutschland;X-APPLE-RADIUS=500;X-TITLE=Hildesheimer Str. 92:geo:10.3766206,52.2617195
END:VEVENT
BEGIN:VEVENT
DTSTART;TZID=Europe/Berlin:20240906T170000
DTEND;TZID=Europe/Berlin:20240906T170000
DTSTAMP:20260425T030258
CREATED:20240308T124132Z
LAST-MODIFIED:20240308T124132Z
UID:10006191-1725642000-1725642000@www.benters-schlemmerdeel.de
SUMMARY:Auch Mütter dürfen faul sein Tag
DESCRIPTION:Lasst Euch einfach Mal verwöhnen. Eine Einladung von eurer Familie kommt da genau richtig. Ihr müsst heute nicht kochen!!! \n\nAnti Pasti/Tomate Büffelmozzarella\nRäucherlachs/Blätterteiglöffel\nGefüllte Ofenkartoffel mit Spinat und Käse\nHähnchenbrust mit Minzgremolata und Apfelgemüse\nSchweinemedaillons/Champignonsauce/Romanesco\nVegetarische Ravioli Käsesauce\nKartoffelgratin/Rösti\nAnanas-Carpaccio mit Bountycreme\n\nPreis pro Person 29\,90€ \nUnsere Muttis werden auf ein Glas Prosecco eingeladen. \nDieser internationale Feiertag fällt immer auf den ersten Freitag im September. Mütter werden heute von allen Aufgaben und Pflichten befreit. Hauptsache\, es gibt eine verdiente Belohnung. Und die findet Ihr in Benters Schlemmerdeel.
URL:https://www.benters-schlemmerdeel.de/schlemmerevent/auch-muetter-duerfen-faul-sein-tag/
LOCATION:Benters Schlemmerdeel\, Hildesheimer Str. 92\, Vechelde\, Niedersachsen\, 38159\, Deutschland
CATEGORIES:Schlemmerevents
ORGANIZER;CN="Benters Schlemmerdeel":MAILTO:info@benters-schlemmerdeel.de
GEO:52.2617195;10.3766206
X-APPLE-STRUCTURED-LOCATION;VALUE=URI;X-ADDRESS=Benters Schlemmerdeel Hildesheimer Str. 92 Vechelde Niedersachsen 38159 Deutschland;X-APPLE-RADIUS=500;X-TITLE=Hildesheimer Str. 92:geo:10.3766206,52.2617195
END:VEVENT
BEGIN:VEVENT
DTSTART;TZID=Europe/Berlin:20240911T170000
DTEND;TZID=Europe/Berlin:20240911T170000
DTSTAMP:20260425T030258
CREATED:20240308T124330Z
LAST-MODIFIED:20240308T124330Z
UID:10006192-1726074000-1726074000@www.benters-schlemmerdeel.de
SUMMARY:Wiener schmäh-Buffet
DESCRIPTION:Brettjause (Schinken/Käse)\nWiener Schnitzel (Kalb) /Gurkensalat/Preiselbeeren\nKartoffelsalat\nTafelspitz/Meerrettichsauce/Rotkohl/Salzkartoffeln\n(Lieblingsgericht von Kaiser Joseph I)\nHirschgulasch/Rahmwirsing/Semmelknödel\nKaiserschmarrn/Vanillesauce\n\nPreis pro Person 33\,90€ \n„Kaiserstadt” Wien spiegelt sich wie in kaum einer anderen Stadt Europas dermaßen variantenreich wider. \nDie Wiener Küche ist die einzige Küche weltweit\, die nach einer Stadt benannt ist. Die Wiener Küche entstand schon im letzten Drittel des 18. Jahrhunderts während des Übergangs der höfischen zur bürgerlichen Gesellschaft. Die Rezepte aus Österreich\, Ungarn\, Böhmen und Mähren wurden miteinander vermischt und machen noch heute eben diese Vielfalt erlebbar.
URL:https://www.benters-schlemmerdeel.de/schlemmerevent/wiener-schmaeh-buffet/
LOCATION:Benters Schlemmerdeel\, Hildesheimer Str. 92\, Vechelde\, Niedersachsen\, 38159\, Deutschland
CATEGORIES:Schlemmerevents
ORGANIZER;CN="Benters Schlemmerdeel":MAILTO:info@benters-schlemmerdeel.de
GEO:52.2617195;10.3766206
X-APPLE-STRUCTURED-LOCATION;VALUE=URI;X-ADDRESS=Benters Schlemmerdeel Hildesheimer Str. 92 Vechelde Niedersachsen 38159 Deutschland;X-APPLE-RADIUS=500;X-TITLE=Hildesheimer Str. 92:geo:10.3766206,52.2617195
END:VEVENT
BEGIN:VEVENT
DTSTART;TZID=Europe/Berlin:20240915T120000
DTEND;TZID=Europe/Berlin:20240915T160000
DTSTAMP:20260425T030258
CREATED:20240308T121144Z
LAST-MODIFIED:20240308T121225Z
UID:10006184-1726401600-1726416000@www.benters-schlemmerdeel.de
SUMMARY:Pfiffige Pfifferlinge
DESCRIPTION:Waldpilzcremesuppe\nSchinken-Carpaccio mit Pfifferlingen\nBlattsalate/marinierte Pfifferlinge\nRahmpfifferlinge\nGebratene Pfifferlinge/Speck & Zwiebeln\nGefüllte Ofenkartoffel mit Pfifferlingen und Käse überbacken\nLinguine/Pfifferlinge/Kirschtomaten\nHähnchenbrust/Schweineschnitzel\nRösti/Kräuterkartoffeln\nDessert-Variation\n\nPreis pro Person 35\,90€
URL:https://www.benters-schlemmerdeel.de/schlemmerevent/pfiffige-pfifferlinge-2024/2024-09-15/
LOCATION:Benters Schlemmerdeel\, Hildesheimer Str. 92\, Vechelde\, Niedersachsen\, 38159\, Deutschland
CATEGORIES:Schlemmerevents
ORGANIZER;CN="Benters Schlemmerdeel":MAILTO:info@benters-schlemmerdeel.de
GEO:52.2617195;10.3766206
X-APPLE-STRUCTURED-LOCATION;VALUE=URI;X-ADDRESS=Benters Schlemmerdeel Hildesheimer Str. 92 Vechelde Niedersachsen 38159 Deutschland;X-APPLE-RADIUS=500;X-TITLE=Hildesheimer Str. 92:geo:10.3766206,52.2617195
END:VEVENT
BEGIN:VEVENT
DTSTART;TZID=Europe/Berlin:20240918T170000
DTEND;TZID=Europe/Berlin:20240918T170000
DTSTAMP:20260425T030258
CREATED:20240308T124716Z
LAST-MODIFIED:20240308T124716Z
UID:10006193-1726678800-1726678800@www.benters-schlemmerdeel.de
SUMMARY:Rund um die Kartoffel
DESCRIPTION:Gurkensalat\nRösti/Räucherlachs\nOfenkartoffeln gefüllt mit Spinat und Käse\nKartoffelauflauf mit Zucchini\nSteaks Schwein/Hähnchen\nRosmarinkartoffeln/Grillsaucen\nSchweineschnitzel/Spiegelei/Kräuterkartoffeln\nDessert-Variation\n\nPreis pro Person: 29\,90€
URL:https://www.benters-schlemmerdeel.de/schlemmerevent/rund-um-die-kartoffel-2024-09-18/
LOCATION:Benters Schlemmerdeel\, Hildesheimer Str. 92\, Vechelde\, Niedersachsen\, 38159\, Deutschland
CATEGORIES:Schlemmerevents
ORGANIZER;CN="Benters Schlemmerdeel":MAILTO:info@benters-schlemmerdeel.de
GEO:52.2617195;10.3766206
X-APPLE-STRUCTURED-LOCATION;VALUE=URI;X-ADDRESS=Benters Schlemmerdeel Hildesheimer Str. 92 Vechelde Niedersachsen 38159 Deutschland;X-APPLE-RADIUS=500;X-TITLE=Hildesheimer Str. 92:geo:10.3766206,52.2617195
END:VEVENT
BEGIN:VEVENT
DTSTART;TZID=Europe/Berlin:20240922T120000
DTEND;TZID=Europe/Berlin:20240922T160000
DTSTAMP:20260425T030258
CREATED:20240308T124943Z
LAST-MODIFIED:20240308T124943Z
UID:10006194-1727006400-1727020800@www.benters-schlemmerdeel.de
SUMMARY:Herbstspaziergang (Buffet)
DESCRIPTION:Kürbiscremesuppe\nMini-Mettigel\nTomaten-Brot-Salat/Ziegenkäse\nRote Bete Carpaccio/Apfel/Cashewkerne\nKohlrouladen/Süßkartoffelpfanne\nHirschbraten/Waldpilzragout/Apfelrotkohl/Kroketten\nRinderbäckchen/Karotten-\nIngwergemüse/Kartoffelklöße\nPasta/Wirsing/Pilze/Parmesan-Thymian-Sauce\nRote Grütze/Vanillesauce\n\nPreis pro Person: 36\,90€
URL:https://www.benters-schlemmerdeel.de/schlemmerevent/herbstspaziergang-buffet/2024-09-22/
LOCATION:Benters Schlemmerdeel\, Hildesheimer Str. 92\, Vechelde\, Niedersachsen\, 38159\, Deutschland
CATEGORIES:Schlemmerevents
ORGANIZER;CN="Benters Schlemmerdeel":MAILTO:info@benters-schlemmerdeel.de
GEO:52.2617195;10.3766206
X-APPLE-STRUCTURED-LOCATION;VALUE=URI;X-ADDRESS=Benters Schlemmerdeel Hildesheimer Str. 92 Vechelde Niedersachsen 38159 Deutschland;X-APPLE-RADIUS=500;X-TITLE=Hildesheimer Str. 92:geo:10.3766206,52.2617195
END:VEVENT
BEGIN:VEVENT
DTSTART;TZID=Europe/Berlin:20240927T170000
DTEND;TZID=Europe/Berlin:20240927T170000
DTSTAMP:20260425T030258
CREATED:20240308T132115Z
LAST-MODIFIED:20240308T132115Z
UID:10006196-1727456400-1727456400@www.benters-schlemmerdeel.de
SUMMARY:Surf & Turf
DESCRIPTION:Steaks & Riesengarnelen (Buffet) \n\nTomatencremesuppe\nCole slaw/Gurkensalat\nBlack Tiger Riesengarnelen\nRinderhüfte/Schweinenackensteaks/Hähnchenbrust\nAioli/BBQ/Sour Cream\nKräuterkartoffeln/Steakbrot\nDessert-Variation\n\nPreis pro Person 36\,90€
URL:https://www.benters-schlemmerdeel.de/schlemmerevent/surf-turf-2024-2/2024-09-27/
LOCATION:Benters Schlemmerdeel\, Hildesheimer Str. 92\, Vechelde\, Niedersachsen\, 38159\, Deutschland
CATEGORIES:Schlemmerevents
ORGANIZER;CN="Benters Schlemmerdeel":MAILTO:info@benters-schlemmerdeel.de
GEO:52.2617195;10.3766206
X-APPLE-STRUCTURED-LOCATION;VALUE=URI;X-ADDRESS=Benters Schlemmerdeel Hildesheimer Str. 92 Vechelde Niedersachsen 38159 Deutschland;X-APPLE-RADIUS=500;X-TITLE=Hildesheimer Str. 92:geo:10.3766206,52.2617195
END:VEVENT
END:VCALENDAR