BEGIN:VCALENDAR
VERSION:2.0
PRODID:-//Benters Schlemmerdeel - ECPv6.15.20//NONSGML v1.0//EN
CALSCALE:GREGORIAN
METHOD:PUBLISH
X-ORIGINAL-URL:https://www.benters-schlemmerdeel.de
X-WR-CALDESC:Veranstaltungen für Benters Schlemmerdeel
REFRESH-INTERVAL;VALUE=DURATION:PT1H
X-Robots-Tag:noindex
X-PUBLISHED-TTL:PT1H
BEGIN:VTIMEZONE
TZID:Europe/Berlin
BEGIN:DAYLIGHT
TZOFFSETFROM:+0100
TZOFFSETTO:+0200
TZNAME:CEST
DTSTART:20220327T010000
END:DAYLIGHT
BEGIN:STANDARD
TZOFFSETFROM:+0200
TZOFFSETTO:+0100
TZNAME:CET
DTSTART:20221030T010000
END:STANDARD
BEGIN:DAYLIGHT
TZOFFSETFROM:+0100
TZOFFSETTO:+0200
TZNAME:CEST
DTSTART:20230326T010000
END:DAYLIGHT
BEGIN:STANDARD
TZOFFSETFROM:+0200
TZOFFSETTO:+0100
TZNAME:CET
DTSTART:20231029T010000
END:STANDARD
BEGIN:DAYLIGHT
TZOFFSETFROM:+0100
TZOFFSETTO:+0200
TZNAME:CEST
DTSTART:20240331T010000
END:DAYLIGHT
BEGIN:STANDARD
TZOFFSETFROM:+0200
TZOFFSETTO:+0100
TZNAME:CET
DTSTART:20241027T010000
END:STANDARD
END:VTIMEZONE
BEGIN:VEVENT
DTSTART;TZID=Europe/Berlin:20230501T120000
DTEND;TZID=Europe/Berlin:20230501T160000
DTSTAMP:20260425T210418
CREATED:20230110T094524Z
LAST-MODIFIED:20230411T093252Z
UID:10006093-1682942400-1682956800@www.benters-schlemmerdeel.de
SUMMARY:Spargelbuffet
DESCRIPTION:Frischer Spargelsalat / Spargelcremesuppe\nRegionaler\, frischer Spargel von Bauer Kuhls\nKoch- / Katenschinken / Rührei / Schweineschnitzel\nGegrillte Hähnchenbrustfilet / Gedünstetes Fischfilet\nSpargelgemüse mit Mettklößchen\nzerlassene Butter / Sauce Hollandaise / Salzkartoffeln\n\nPreis pro Person 34\,90 € \nÄnderungen sind uns vorbehalten. \n 
URL:https://www.benters-schlemmerdeel.de/schlemmerevent/spargelbuffet-2023/2023-05-01/
LOCATION:Niedersachsen
CATEGORIES:Schlemmerevents
END:VEVENT
BEGIN:VEVENT
DTSTART;TZID=Europe/Berlin:20230503T170000
DTEND;TZID=Europe/Berlin:20230503T170000
DTSTAMP:20260425T210418
CREATED:20230110T094524Z
LAST-MODIFIED:20230411T093252Z
UID:10006094-1683133200-1683133200@www.benters-schlemmerdeel.de
SUMMARY:Spargelbuffet
DESCRIPTION:Frischer Spargelsalat / Spargelcremesuppe\nRegionaler\, frischer Spargel von Bauer Kuhls\nKoch- / Katenschinken / Rührei / Schweineschnitzel\nGegrillte Hähnchenbrustfilet / Gedünstetes Fischfilet\nSpargelgemüse mit Mettklößchen\nzerlassene Butter / Sauce Hollandaise / Salzkartoffeln\n\nPreis pro Person 34\,90 € \nÄnderungen sind uns vorbehalten. \n 
URL:https://www.benters-schlemmerdeel.de/schlemmerevent/spargelbuffet-2023/2023-05-03/
LOCATION:Niedersachsen
CATEGORIES:Schlemmerevents
END:VEVENT
BEGIN:VEVENT
DTSTART;TZID=Europe/Berlin:20230504T170000
DTEND;TZID=Europe/Berlin:20230504T170000
DTSTAMP:20260425T210418
CREATED:20230110T094524Z
LAST-MODIFIED:20230411T093252Z
UID:10006095-1683219600-1683219600@www.benters-schlemmerdeel.de
SUMMARY:Spargelbuffet
DESCRIPTION:Frischer Spargelsalat / Spargelcremesuppe\nRegionaler\, frischer Spargel von Bauer Kuhls\nKoch- / Katenschinken / Rührei / Schweineschnitzel\nGegrillte Hähnchenbrustfilet / Gedünstetes Fischfilet\nSpargelgemüse mit Mettklößchen\nzerlassene Butter / Sauce Hollandaise / Salzkartoffeln\n\nPreis pro Person 34\,90 € \nÄnderungen sind uns vorbehalten. \n 
URL:https://www.benters-schlemmerdeel.de/schlemmerevent/spargelbuffet-2023/2023-05-04/
LOCATION:Niedersachsen
CATEGORIES:Schlemmerevents
END:VEVENT
BEGIN:VEVENT
DTSTART;TZID=Europe/Berlin:20230510T170000
DTEND;TZID=Europe/Berlin:20230510T170000
DTSTAMP:20260425T210418
CREATED:20230110T094524Z
LAST-MODIFIED:20230411T093252Z
UID:10006096-1683738000-1683738000@www.benters-schlemmerdeel.de
SUMMARY:Spargelbuffet
DESCRIPTION:Frischer Spargelsalat / Spargelcremesuppe\nRegionaler\, frischer Spargel von Bauer Kuhls\nKoch- / Katenschinken / Rührei / Schweineschnitzel\nGegrillte Hähnchenbrustfilet / Gedünstetes Fischfilet\nSpargelgemüse mit Mettklößchen\nzerlassene Butter / Sauce Hollandaise / Salzkartoffeln\n\nPreis pro Person 34\,90 € \nÄnderungen sind uns vorbehalten. \n 
URL:https://www.benters-schlemmerdeel.de/schlemmerevent/spargelbuffet-2023/2023-05-10/
LOCATION:Niedersachsen
CATEGORIES:Schlemmerevents
END:VEVENT
BEGIN:VEVENT
DTSTART;TZID=Europe/Berlin:20230511T170000
DTEND;TZID=Europe/Berlin:20230511T170000
DTSTAMP:20260425T210418
CREATED:20230110T094524Z
LAST-MODIFIED:20230411T093252Z
UID:10006097-1683824400-1683824400@www.benters-schlemmerdeel.de
SUMMARY:Spargelbuffet
DESCRIPTION:Frischer Spargelsalat / Spargelcremesuppe\nRegionaler\, frischer Spargel von Bauer Kuhls\nKoch- / Katenschinken / Rührei / Schweineschnitzel\nGegrillte Hähnchenbrustfilet / Gedünstetes Fischfilet\nSpargelgemüse mit Mettklößchen\nzerlassene Butter / Sauce Hollandaise / Salzkartoffeln\n\nPreis pro Person 34\,90 € \nÄnderungen sind uns vorbehalten. \n 
URL:https://www.benters-schlemmerdeel.de/schlemmerevent/spargelbuffet-2023/2023-05-11/
LOCATION:Niedersachsen
CATEGORIES:Schlemmerevents
END:VEVENT
BEGIN:VEVENT
DTSTART;TZID=Europe/Berlin:20230514T120000
DTEND;TZID=Europe/Berlin:20230514T160000
DTSTAMP:20260425T210418
CREATED:20230110T094524Z
LAST-MODIFIED:20230411T093252Z
UID:10006106-1684065600-1684080000@www.benters-schlemmerdeel.de
SUMMARY:Spargelbuffet
DESCRIPTION:Frischer Spargelsalat / Spargelcremesuppe\nRegionaler\, frischer Spargel von Bauer Kuhls\nKoch- / Katenschinken / Rührei / Schweineschnitzel\nGegrillte Hähnchenbrustfilet / Gedünstetes Fischfilet\nSpargelgemüse mit Mettklößchen\nzerlassene Butter / Sauce Hollandaise / Salzkartoffeln\n\nPreis pro Person 34\,90 € \nÄnderungen sind uns vorbehalten. \n 
URL:https://www.benters-schlemmerdeel.de/schlemmerevent/spargelbuffet-2023/2023-05-14/
LOCATION:Niedersachsen
CATEGORIES:Schlemmerevents
END:VEVENT
BEGIN:VEVENT
DTSTART;TZID=Europe/Berlin:20230517T170000
DTEND;TZID=Europe/Berlin:20230517T170000
DTSTAMP:20260425T210418
CREATED:20230110T094524Z
LAST-MODIFIED:20230411T093252Z
UID:10006105-1684342800-1684342800@www.benters-schlemmerdeel.de
SUMMARY:Spargelbuffet
DESCRIPTION:Frischer Spargelsalat / Spargelcremesuppe\nRegionaler\, frischer Spargel von Bauer Kuhls\nKoch- / Katenschinken / Rührei / Schweineschnitzel\nGegrillte Hähnchenbrustfilet / Gedünstetes Fischfilet\nSpargelgemüse mit Mettklößchen\nzerlassene Butter / Sauce Hollandaise / Salzkartoffeln\n\nPreis pro Person 34\,90 € \nÄnderungen sind uns vorbehalten. \n 
URL:https://www.benters-schlemmerdeel.de/schlemmerevent/spargelbuffet-2023/2023-05-17/
LOCATION:Niedersachsen
CATEGORIES:Schlemmerevents
END:VEVENT
BEGIN:VEVENT
DTSTART;TZID=Europe/Berlin:20230518T120000
DTEND;TZID=Europe/Berlin:20230518T160000
DTSTAMP:20260425T210418
CREATED:20230110T094524Z
LAST-MODIFIED:20230411T093252Z
UID:10006098-1684411200-1684425600@www.benters-schlemmerdeel.de
SUMMARY:Spargelbuffet
DESCRIPTION:Frischer Spargelsalat / Spargelcremesuppe\nRegionaler\, frischer Spargel von Bauer Kuhls\nKoch- / Katenschinken / Rührei / Schweineschnitzel\nGegrillte Hähnchenbrustfilet / Gedünstetes Fischfilet\nSpargelgemüse mit Mettklößchen\nzerlassene Butter / Sauce Hollandaise / Salzkartoffeln\n\nPreis pro Person 34\,90 € \nÄnderungen sind uns vorbehalten. \n 
URL:https://www.benters-schlemmerdeel.de/schlemmerevent/spargelbuffet-2023/2023-05-18/
LOCATION:Niedersachsen
CATEGORIES:Schlemmerevents
END:VEVENT
BEGIN:VEVENT
DTSTART;TZID=Europe/Berlin:20230521T120000
DTEND;TZID=Europe/Berlin:20230521T160000
DTSTAMP:20260425T210418
CREATED:20230110T094524Z
LAST-MODIFIED:20230411T093252Z
UID:10006099-1684670400-1684684800@www.benters-schlemmerdeel.de
SUMMARY:Spargelbuffet
DESCRIPTION:Frischer Spargelsalat / Spargelcremesuppe\nRegionaler\, frischer Spargel von Bauer Kuhls\nKoch- / Katenschinken / Rührei / Schweineschnitzel\nGegrillte Hähnchenbrustfilet / Gedünstetes Fischfilet\nSpargelgemüse mit Mettklößchen\nzerlassene Butter / Sauce Hollandaise / Salzkartoffeln\n\nPreis pro Person 34\,90 € \nÄnderungen sind uns vorbehalten. \n 
URL:https://www.benters-schlemmerdeel.de/schlemmerevent/spargelbuffet-2023/2023-05-21/
LOCATION:Niedersachsen
CATEGORIES:Schlemmerevents
END:VEVENT
BEGIN:VEVENT
DTSTART;TZID=Europe/Berlin:20230524T170000
DTEND;TZID=Europe/Berlin:20230524T170000
DTSTAMP:20260425T210418
CREATED:20230504T090408Z
LAST-MODIFIED:20230504T090408Z
UID:10006107-1684947600-1684947600@www.benters-schlemmerdeel.de
SUMMARY:Spargelbuffet (Zusatztermin)
DESCRIPTION:Frischer Spargelsalat / Spargelcremesuppe\nRegionaler\, frischer Spargel von Bauer Kuhls\nKoch- / Katenschinken / Rührei / Schweineschnitzel\nGegrillte Hähnchenbrustfilet / Gedünstetes Fischfilet\nSpargelgemüse mit Mettklößchen\nzerlassene Butter / Sauce Hollandaise / Salzkartoffeln\n\nPreis pro Person 34\,90 € \nÄnderungen sind uns vorbehalten. \n 
URL:https://www.benters-schlemmerdeel.de/schlemmerevent/spargelbuffet-zusatztermin/2023-05-24/
LOCATION:Benters Schlemmerdeel\, Hildesheimer Str. 92\, Vechelde\, Niedersachsen\, 38159\, Deutschland
CATEGORIES:Schlemmerevents,Zusatztermin
ORGANIZER;CN="Benters Schlemmerdeel":MAILTO:info@benters-schlemmerdeel.de
GEO:52.2617195;10.3766206
X-APPLE-STRUCTURED-LOCATION;VALUE=URI;X-ADDRESS=Benters Schlemmerdeel Hildesheimer Str. 92 Vechelde Niedersachsen 38159 Deutschland;X-APPLE-RADIUS=500;X-TITLE=Hildesheimer Str. 92:geo:10.3766206,52.2617195
END:VEVENT
BEGIN:VEVENT
DTSTART;TZID=Europe/Berlin:20230525T170000
DTEND;TZID=Europe/Berlin:20230525T170000
DTSTAMP:20260425T210418
CREATED:20230504T090408Z
LAST-MODIFIED:20230504T090408Z
UID:10006108-1685034000-1685034000@www.benters-schlemmerdeel.de
SUMMARY:Spargelbuffet (Zusatztermin)
DESCRIPTION:Frischer Spargelsalat / Spargelcremesuppe\nRegionaler\, frischer Spargel von Bauer Kuhls\nKoch- / Katenschinken / Rührei / Schweineschnitzel\nGegrillte Hähnchenbrustfilet / Gedünstetes Fischfilet\nSpargelgemüse mit Mettklößchen\nzerlassene Butter / Sauce Hollandaise / Salzkartoffeln\n\nPreis pro Person 34\,90 € \nÄnderungen sind uns vorbehalten. \n 
URL:https://www.benters-schlemmerdeel.de/schlemmerevent/spargelbuffet-zusatztermin/2023-05-25/
LOCATION:Benters Schlemmerdeel\, Hildesheimer Str. 92\, Vechelde\, Niedersachsen\, 38159\, Deutschland
CATEGORIES:Schlemmerevents,Zusatztermin
ORGANIZER;CN="Benters Schlemmerdeel":MAILTO:info@benters-schlemmerdeel.de
GEO:52.2617195;10.3766206
X-APPLE-STRUCTURED-LOCATION;VALUE=URI;X-ADDRESS=Benters Schlemmerdeel Hildesheimer Str. 92 Vechelde Niedersachsen 38159 Deutschland;X-APPLE-RADIUS=500;X-TITLE=Hildesheimer Str. 92:geo:10.3766206,52.2617195
END:VEVENT
BEGIN:VEVENT
DTSTART;TZID=Europe/Berlin:20230527T170000
DTEND;TZID=Europe/Berlin:20230527T170000
DTSTAMP:20260425T210418
CREATED:20230110T094524Z
LAST-MODIFIED:20230411T093252Z
UID:10006100-1685206800-1685206800@www.benters-schlemmerdeel.de
SUMMARY:Spargelbuffet
DESCRIPTION:Frischer Spargelsalat / Spargelcremesuppe\nRegionaler\, frischer Spargel von Bauer Kuhls\nKoch- / Katenschinken / Rührei / Schweineschnitzel\nGegrillte Hähnchenbrustfilet / Gedünstetes Fischfilet\nSpargelgemüse mit Mettklößchen\nzerlassene Butter / Sauce Hollandaise / Salzkartoffeln\n\nPreis pro Person 34\,90 € \nÄnderungen sind uns vorbehalten. \n 
URL:https://www.benters-schlemmerdeel.de/schlemmerevent/spargelbuffet-2023/2023-05-27/
LOCATION:Niedersachsen
CATEGORIES:Schlemmerevents
END:VEVENT
BEGIN:VEVENT
DTSTART;TZID=Europe/Berlin:20230528T120000
DTEND;TZID=Europe/Berlin:20230528T160000
DTSTAMP:20260425T210418
CREATED:20230110T094524Z
LAST-MODIFIED:20230411T093252Z
UID:10006101-1685275200-1685289600@www.benters-schlemmerdeel.de
SUMMARY:Spargelbuffet
DESCRIPTION:Frischer Spargelsalat / Spargelcremesuppe\nRegionaler\, frischer Spargel von Bauer Kuhls\nKoch- / Katenschinken / Rührei / Schweineschnitzel\nGegrillte Hähnchenbrustfilet / Gedünstetes Fischfilet\nSpargelgemüse mit Mettklößchen\nzerlassene Butter / Sauce Hollandaise / Salzkartoffeln\n\nPreis pro Person 34\,90 € \nÄnderungen sind uns vorbehalten. \n 
URL:https://www.benters-schlemmerdeel.de/schlemmerevent/spargelbuffet-2023/2023-05-28/
LOCATION:Niedersachsen
CATEGORIES:Schlemmerevents
END:VEVENT
BEGIN:VEVENT
DTSTART;TZID=Europe/Berlin:20230529T120000
DTEND;TZID=Europe/Berlin:20230529T160000
DTSTAMP:20260425T210418
CREATED:20230110T094524Z
LAST-MODIFIED:20230411T093252Z
UID:10006102-1685361600-1685376000@www.benters-schlemmerdeel.de
SUMMARY:Spargelbuffet
DESCRIPTION:Frischer Spargelsalat / Spargelcremesuppe\nRegionaler\, frischer Spargel von Bauer Kuhls\nKoch- / Katenschinken / Rührei / Schweineschnitzel\nGegrillte Hähnchenbrustfilet / Gedünstetes Fischfilet\nSpargelgemüse mit Mettklößchen\nzerlassene Butter / Sauce Hollandaise / Salzkartoffeln\n\nPreis pro Person 34\,90 € \nÄnderungen sind uns vorbehalten. \n 
URL:https://www.benters-schlemmerdeel.de/schlemmerevent/spargelbuffet-2023/2023-05-29/
LOCATION:Niedersachsen
CATEGORIES:Schlemmerevents
END:VEVENT
END:VCALENDAR