BEGIN:VCALENDAR
VERSION:2.0
PRODID:-//Benters Schlemmerdeel - ECPv6.15.20//NONSGML v1.0//EN
CALSCALE:GREGORIAN
METHOD:PUBLISH
X-ORIGINAL-URL:https://www.benters-schlemmerdeel.de
X-WR-CALDESC:Veranstaltungen für Benters Schlemmerdeel
REFRESH-INTERVAL;VALUE=DURATION:PT1H
X-Robots-Tag:noindex
X-PUBLISHED-TTL:PT1H
BEGIN:VTIMEZONE
TZID:Europe/Berlin
BEGIN:DAYLIGHT
TZOFFSETFROM:+0100
TZOFFSETTO:+0200
TZNAME:CEST
DTSTART:20210328T010000
END:DAYLIGHT
BEGIN:STANDARD
TZOFFSETFROM:+0200
TZOFFSETTO:+0100
TZNAME:CET
DTSTART:20211031T010000
END:STANDARD
BEGIN:DAYLIGHT
TZOFFSETFROM:+0100
TZOFFSETTO:+0200
TZNAME:CEST
DTSTART:20220327T010000
END:DAYLIGHT
BEGIN:STANDARD
TZOFFSETFROM:+0200
TZOFFSETTO:+0100
TZNAME:CET
DTSTART:20221030T010000
END:STANDARD
BEGIN:DAYLIGHT
TZOFFSETFROM:+0100
TZOFFSETTO:+0200
TZNAME:CEST
DTSTART:20230326T010000
END:DAYLIGHT
BEGIN:STANDARD
TZOFFSETFROM:+0200
TZOFFSETTO:+0100
TZNAME:CET
DTSTART:20231029T010000
END:STANDARD
END:VTIMEZONE
BEGIN:VEVENT
DTSTART;TZID=Europe/Berlin:20221104T180000
DTEND;TZID=Europe/Berlin:20221104T180000
DTSTAMP:20260419T204859
CREATED:20220310T115440Z
LAST-MODIFIED:20220921T085036Z
UID:10006076-1667584800-1667584800@www.benters-schlemmerdeel.de
SUMMARY:Weinabend
DESCRIPTION:Weinabend\nWeinreise mit Sommelier Fabian Wehrhahn\n \nGruß aus der Küche\n(bei schönem Wetter am Lagerfeuer\, mit weißem Glühwein\, alternativ Prosecco rosé) \n\nCurrywurst von Fleischer Brandes\nVallstedter Bruschetta\nBrot vom Brotsommelier Peters/ Leberwurst von Fleischer Brandes/ Zwiebeln/Gurken\nVogerlsalat\nEntenbrust/Feldsalat/Kartoffelwürfel\nRinderbäckchen\nGetrüffelte Rotweinjus/Karotten- Ingwer-Gemüse/Kartoffelstampf\nSpekulatius-Parfait\nOrangenfilets\nKäseauswahl\n\nPreis pro Person: 69\,90€\nInklusive Aperitif/Weinbegleitung/ Mineralwasser/Menü
URL:https://www.benters-schlemmerdeel.de/schlemmerevent/weinabend/
LOCATION:Niedersachsen
CATEGORIES:Schlemmerevents
END:VEVENT
BEGIN:VEVENT
DTSTART;TZID=Europe/Berlin:20221111T170000
DTEND;TZID=Europe/Berlin:20221111T170000
DTSTAMP:20260419T204859
CREATED:20220310T115553Z
LAST-MODIFIED:20220921T085257Z
UID:10006078-1668186000-1668186000@www.benters-schlemmerdeel.de
SUMMARY:Gänsebust & Gänsekeule
DESCRIPTION:Gänse-„Lust”\nSt. Martinstag \n\nMaronencremesuppe/Mettwurstchips\nGänsebrust/Gänsekeule\nApfelrotkohl/Karotten-Ingwergemüse\ngeschmorten Bratäpfeln/Preiselbeeren\nKartoffelklöße/Salzkartoffeln\nVanillepudding mit Himbeersauce\n\nPreis pro Person: 35\,50€
URL:https://www.benters-schlemmerdeel.de/schlemmerevent/gaensebust-gaensekeule/
LOCATION:Niedersachsen
CATEGORIES:Schlemmerevents
END:VEVENT
BEGIN:VEVENT
DTSTART;TZID=Europe/Berlin:20221127T120000
DTEND;TZID=Europe/Berlin:20221127T160000
DTSTAMP:20260419T204859
CREATED:20220310T115748Z
LAST-MODIFIED:20220921T090137Z
UID:10006079-1669550400-1669564800@www.benters-schlemmerdeel.de
SUMMARY:Advents-Buffet
DESCRIPTION:Advents-Buffet \n\nWaldpilzcremesuppe\nMettwustchips/Preiselbeer-Meerrettich in Minigläser\nGänsebrust/Baberie Entenbrust/Hirschbraten\nApfelrotkohl/Rosenkohl/Apfelmus\nSemmelknödel/Kroketten\nTiramisu vom Lebkuchen\n\nPreis pro Person: 34\,90€
URL:https://www.benters-schlemmerdeel.de/schlemmerevent/advents-buffet/2022-11-27/
LOCATION:Niedersachsen
CATEGORIES:Schlemmerevents
END:VEVENT
END:VCALENDAR