BEGIN:VCALENDAR
VERSION:2.0
PRODID:-//Benters Schlemmerdeel - ECPv6.15.20//NONSGML v1.0//EN
CALSCALE:GREGORIAN
METHOD:PUBLISH
X-ORIGINAL-URL:https://www.benters-schlemmerdeel.de
X-WR-CALDESC:Veranstaltungen für Benters Schlemmerdeel
REFRESH-INTERVAL;VALUE=DURATION:PT1H
X-Robots-Tag:noindex
X-PUBLISHED-TTL:PT1H
BEGIN:VTIMEZONE
TZID:Europe/Berlin
BEGIN:DAYLIGHT
TZOFFSETFROM:+0100
TZOFFSETTO:+0200
TZNAME:CEST
DTSTART:20210328T010000
END:DAYLIGHT
BEGIN:STANDARD
TZOFFSETFROM:+0200
TZOFFSETTO:+0100
TZNAME:CET
DTSTART:20211031T010000
END:STANDARD
BEGIN:DAYLIGHT
TZOFFSETFROM:+0100
TZOFFSETTO:+0200
TZNAME:CEST
DTSTART:20220327T010000
END:DAYLIGHT
BEGIN:STANDARD
TZOFFSETFROM:+0200
TZOFFSETTO:+0100
TZNAME:CET
DTSTART:20221030T010000
END:STANDARD
BEGIN:DAYLIGHT
TZOFFSETFROM:+0100
TZOFFSETTO:+0200
TZNAME:CEST
DTSTART:20230326T010000
END:DAYLIGHT
BEGIN:STANDARD
TZOFFSETFROM:+0200
TZOFFSETTO:+0100
TZNAME:CET
DTSTART:20231029T010000
END:STANDARD
END:VTIMEZONE
BEGIN:VEVENT
DTSTART;TZID=Europe/Berlin:20221003T120000
DTEND;TZID=Europe/Berlin:20221003T160000
DTSTAMP:20260419T145901
CREATED:20220310T115340Z
LAST-MODIFIED:20220921T090200Z
UID:10006077-1664798400-1664812800@www.benters-schlemmerdeel.de
SUMMARY:Herbst- Buffet
DESCRIPTION:Herbst- Buffet \n\nKürbiscremesuppe\nHirsch-/Wildschweinbraten/Birne mit Preiselbeeren\nKrustenbraten\nWaldpilzragout\nApfelrotkohl/Rahmwirsing/Rosenkohl Kartoffelklöße/Spätzle/Salzkartoffeln\ndunkle Mousse/frische Beeren\n\nPreis pro Person 32\,90€
URL:https://www.benters-schlemmerdeel.de/schlemmerevent/herbst-buffet-2/
LOCATION:Niedersachsen
CATEGORIES:Schlemmerevents
END:VEVENT
END:VCALENDAR