BEGIN:VCALENDAR
VERSION:2.0
PRODID:-//Benters Schlemmerdeel - ECPv6.15.20//NONSGML v1.0//EN
CALSCALE:GREGORIAN
METHOD:PUBLISH
X-ORIGINAL-URL:https://www.benters-schlemmerdeel.de
X-WR-CALDESC:Veranstaltungen für Benters Schlemmerdeel
REFRESH-INTERVAL;VALUE=DURATION:PT1H
X-Robots-Tag:noindex
X-PUBLISHED-TTL:PT1H
BEGIN:VTIMEZONE
TZID:Europe/Berlin
BEGIN:DAYLIGHT
TZOFFSETFROM:+0100
TZOFFSETTO:+0200
TZNAME:CEST
DTSTART:20230326T010000
END:DAYLIGHT
BEGIN:STANDARD
TZOFFSETFROM:+0200
TZOFFSETTO:+0100
TZNAME:CET
DTSTART:20231029T010000
END:STANDARD
BEGIN:DAYLIGHT
TZOFFSETFROM:+0100
TZOFFSETTO:+0200
TZNAME:CEST
DTSTART:20240331T010000
END:DAYLIGHT
BEGIN:STANDARD
TZOFFSETFROM:+0200
TZOFFSETTO:+0100
TZNAME:CET
DTSTART:20241027T010000
END:STANDARD
BEGIN:DAYLIGHT
TZOFFSETFROM:+0100
TZOFFSETTO:+0200
TZNAME:CEST
DTSTART:20250330T010000
END:DAYLIGHT
BEGIN:STANDARD
TZOFFSETFROM:+0200
TZOFFSETTO:+0100
TZNAME:CET
DTSTART:20251026T010000
END:STANDARD
END:VTIMEZONE
BEGIN:VEVENT
DTSTART;TZID=Europe/Berlin:20240904T170000
DTEND;TZID=Europe/Berlin:20240904T170000
DTSTAMP:20260420T052807
CREATED:20240308T123941Z
LAST-MODIFIED:20240308T123941Z
UID:10006190-1725469200-1725469200@www.benters-schlemmerdeel.de
SUMMARY:Tag der Currywurst (Buffet)
DESCRIPTION:Klassisch Brüh- und Bratcurrywurst\nWildcurrywurst/Rotwein-Zwiebelsauce\nGeflügelcurrywurst/Caribbean style mit Mango\nCurrywurst Nuggets/Erdnuss-Currysauce\nMichas Currywurstschnitzel mit Käse überbacken\nPommes frites/Bratkartoffeln/Kartoffelsalat/Schrippen\nCurrygemüse/Gurkensalat/Cole slaw\nGötterspeise mit Vanillesauce\n\nPreis pro Person 22\,90€ \nRan an die Wurst! Kommt mit eurer Familie/Freunden/Verein – WICHTIG mit CURRYWURSTFANS!!!
URL:https://www.benters-schlemmerdeel.de/schlemmerevent/tag-der-currywurst-buffet/
LOCATION:Benters Schlemmerdeel\, Hildesheimer Str. 92\, Vechelde\, Niedersachsen\, 38159\, Deutschland
CATEGORIES:Schlemmerevents
ORGANIZER;CN="Benters Schlemmerdeel":MAILTO:info@benters-schlemmerdeel.de
GEO:52.2617195;10.3766206
X-APPLE-STRUCTURED-LOCATION;VALUE=URI;X-ADDRESS=Benters Schlemmerdeel Hildesheimer Str. 92 Vechelde Niedersachsen 38159 Deutschland;X-APPLE-RADIUS=500;X-TITLE=Hildesheimer Str. 92:geo:10.3766206,52.2617195
END:VEVENT
END:VCALENDAR