BEGIN:VCALENDAR
VERSION:2.0
PRODID:-//Benters Schlemmerdeel - ECPv6.15.20//NONSGML v1.0//EN
CALSCALE:GREGORIAN
METHOD:PUBLISH
X-WR-CALNAME:Benters Schlemmerdeel
X-ORIGINAL-URL:https://www.benters-schlemmerdeel.de
X-WR-CALDESC:Veranstaltungen für Benters Schlemmerdeel
REFRESH-INTERVAL;VALUE=DURATION:PT1H
X-Robots-Tag:noindex
X-PUBLISHED-TTL:PT1H
BEGIN:VTIMEZONE
TZID:Europe/Berlin
BEGIN:DAYLIGHT
TZOFFSETFROM:+0100
TZOFFSETTO:+0200
TZNAME:CEST
DTSTART:20220327T010000
END:DAYLIGHT
BEGIN:STANDARD
TZOFFSETFROM:+0200
TZOFFSETTO:+0100
TZNAME:CET
DTSTART:20221030T010000
END:STANDARD
BEGIN:DAYLIGHT
TZOFFSETFROM:+0100
TZOFFSETTO:+0200
TZNAME:CEST
DTSTART:20230326T010000
END:DAYLIGHT
BEGIN:STANDARD
TZOFFSETFROM:+0200
TZOFFSETTO:+0100
TZNAME:CET
DTSTART:20231029T010000
END:STANDARD
BEGIN:DAYLIGHT
TZOFFSETFROM:+0100
TZOFFSETTO:+0200
TZNAME:CEST
DTSTART:20240331T010000
END:DAYLIGHT
BEGIN:STANDARD
TZOFFSETFROM:+0200
TZOFFSETTO:+0100
TZNAME:CET
DTSTART:20241027T010000
END:STANDARD
END:VTIMEZONE
BEGIN:VEVENT
DTSTART;TZID=Europe/Berlin:20230809T170000
DTEND;TZID=Europe/Berlin:20230809T170000
DTSTAMP:20260426T050419
CREATED:20230706T110713Z
LAST-MODIFIED:20230710T124202Z
UID:10006116-1691600400-1691600400@www.benters-schlemmerdeel.de
SUMMARY:Pfiffige Pfifferlinge
DESCRIPTION:Waldpilzcremesuppe\nBlattsalate/marinierte Pfifferlinge\nRahmpfifferlinge\nGebratene Pfifferlinge/Speck & Zwiebeln\nPfifferlings-Rührei\nLinguine/Pfifferlinge/Kirschtomaten\nHähnchenbrust/Schweineschnitzel\nRösti/Kräuterkartoffeln\nDessert-Auswahl\n\nPreis pro Person 34\,90€
URL:https://www.benters-schlemmerdeel.de/schlemmerevent/pfiffige-pfifferlinge-5/2023-08-09/
LOCATION:Benters Schlemmerdeel\, Hildesheimer Str. 92\, Vechelde\, Niedersachsen\, 38159\, Deutschland
CATEGORIES:Schlemmerevents
ORGANIZER;CN="Benters Schlemmerdeel":MAILTO:info@benters-schlemmerdeel.de
GEO:52.2617195;10.3766206
X-APPLE-STRUCTURED-LOCATION;VALUE=URI;X-ADDRESS=Benters Schlemmerdeel Hildesheimer Str. 92 Vechelde Niedersachsen 38159 Deutschland;X-APPLE-RADIUS=500;X-TITLE=Hildesheimer Str. 92:geo:10.3766206,52.2617195
END:VEVENT
END:VCALENDAR