BEGIN:VCALENDAR
VERSION:2.0
PRODID:-//Benters Schlemmerdeel - ECPv6.15.20//NONSGML v1.0//EN
CALSCALE:GREGORIAN
METHOD:PUBLISH
X-WR-CALNAME:Benters Schlemmerdeel
X-ORIGINAL-URL:https://www.benters-schlemmerdeel.de
X-WR-CALDESC:Veranstaltungen für Benters Schlemmerdeel
REFRESH-INTERVAL;VALUE=DURATION:PT1H
X-Robots-Tag:noindex
X-PUBLISHED-TTL:PT1H
BEGIN:VTIMEZONE
TZID:Europe/Berlin
BEGIN:DAYLIGHT
TZOFFSETFROM:+0100
TZOFFSETTO:+0200
TZNAME:CEST
DTSTART:20220327T010000
END:DAYLIGHT
BEGIN:STANDARD
TZOFFSETFROM:+0200
TZOFFSETTO:+0100
TZNAME:CET
DTSTART:20221030T010000
END:STANDARD
BEGIN:DAYLIGHT
TZOFFSETFROM:+0100
TZOFFSETTO:+0200
TZNAME:CEST
DTSTART:20230326T010000
END:DAYLIGHT
BEGIN:STANDARD
TZOFFSETFROM:+0200
TZOFFSETTO:+0100
TZNAME:CET
DTSTART:20231029T010000
END:STANDARD
BEGIN:DAYLIGHT
TZOFFSETFROM:+0100
TZOFFSETTO:+0200
TZNAME:CEST
DTSTART:20240331T010000
END:DAYLIGHT
BEGIN:STANDARD
TZOFFSETFROM:+0200
TZOFFSETTO:+0100
TZNAME:CET
DTSTART:20241027T010000
END:STANDARD
END:VTIMEZONE
BEGIN:VEVENT
DTSTART;TZID=Europe/Berlin:20230203T180000
DTEND;TZID=Europe/Berlin:20230203T220000
DTSTAMP:20260424T195814
CREATED:20230110T092508Z
LAST-MODIFIED:20230110T092508Z
UID:10006083-1675447200-1675461600@www.benters-schlemmerdeel.de
SUMMARY:Braunkohl-Buffet all in
DESCRIPTION:Niedersächsische Hochzeitssuppe\nFrischer\, regionaler Braunkohl (von Bauer Werthmann aus Liedingen)\nmit regionaler\, geräucherter und frischer Bregenwurst (von Fleischer Brandes aus Vallstedt)\nKasseler Braten\nSalzkartoffeln und Bratkartoffeln\nGötterspeise mit Vanillesauce\n\nInklusive Getränke: \n\nHausweine / Biere / alkoholfreie Getränke\n\nPro Person: 34\,90 € \nÄnderungen sind uns vorbehalten.
URL:https://www.benters-schlemmerdeel.de/schlemmerevent/braunkohl-buffet-all-in/
LOCATION:Benters Schlemmerdeel\, Hildesheimer Str. 92\, Vechelde\, Niedersachsen\, 38159\, Deutschland
CATEGORIES:Schlemmerevents
ORGANIZER;CN="Benters Schlemmerdeel":MAILTO:info@benters-schlemmerdeel.de
GEO:52.2617195;10.3766206
X-APPLE-STRUCTURED-LOCATION;VALUE=URI;X-ADDRESS=Benters Schlemmerdeel Hildesheimer Str. 92 Vechelde Niedersachsen 38159 Deutschland;X-APPLE-RADIUS=500;X-TITLE=Hildesheimer Str. 92:geo:10.3766206,52.2617195
END:VEVENT
END:VCALENDAR